BEGIN:VCALENDAR
VERSION:2.0
PRODID:-//ChamberMaster//Event Calendar 2.0//EN
METHOD:PUBLISH
X-PUBLISHED-TTL:P3D
REFRESH-INTERVAL:P3D
CALSCALE:GREGORIAN
BEGIN:VEVENT
DTSTART;VALUE=DATE:20220616
DTEND;VALUE=DATE:20220620
TRANSP:TRANSPARENT
X-MICROSOFT-CDO-ALLDAYEVENT:TRUE
SUMMARY:Myrtle & Maude's Fathers Day Weekend
DESCRIPTION:Thursday\, Friday\, Saturday 10a-5p\, Sunday 10a-5p\n\nSaturday 18th will feature a special Dad's event
X-ALT-DESC;FMTTYPE=text/html:<div><span style="font-family: Arial\, Helvetica\, sans-serif\; font-size: 16px\; background-color: rgba(241\, 243\, 244\, 0.5)\;">Thursday\, Friday\, Saturday 10a-5p\, Sunday 10a-5p</span></div>\n\n<div><span style="color: rgb(44\, 54\, 58)\; font-family: Arial\, Helvetica\, sans-serif\; font-size: 16px\;">Saturday 18th will feature a special Dad&#39\;s event</span></div>\n
LOCATION:Myrtle & Maude's 10937 Elk Lake Road Elk Rapids MI 49629
UID:e.2409.29072
SEQUENCE:3
DTSTAMP:20260420T202544Z
URL:https://business.elkrapidschamber.org/events/details/myrtle-maude-s-fathers-day-weekend-29072
END:VEVENT

END:VCALENDAR
