BEGIN:VCALENDAR
VERSION:2.0
PRODID:-//ChamberMaster//Event Calendar 2.0//EN
METHOD:PUBLISH
X-PUBLISHED-TTL:P3D
REFRESH-INTERVAL:P3D
CALSCALE:GREGORIAN
BEGIN:VEVENT
DTSTART:20230616T140000Z
DTEND:20230616T210000Z
X-MICROSOFT-CDO-ALLDAYEVENT:FALSE
SUMMARY:Myrtle & Maude's Farm Fresh Father's Day Weekend
DESCRIPTION:Farm Fresh Father's Day Weekend!\n\nJune's event lands on Father's Day and we are very excited about this! The market's June theme will cater to Dads\, with vintage tools\, workbenches\, and decor. We will also have many unique gift ideas for Dads\, including pre-made gift baskets\, unique Michigan made snacks\, and camping gifts! The yard games will be out and the kids play area open\, so make sure to bring the whole family to the farm to pick up something special for Dad and to spend some quality time! We will help you make the big guy in your life feel extra loved on his big weekend!\n\n\n\nSaturday June 17th Father's Day 5k Farm Run \n\nSaturday 17th we will be hosting our first annual Father's Day 5k Farm Run! \n\nPut on your running shoes and enjoy a fun run through our 3rd generation family farm! All ages welcome! After the run cool off with a farm fresh root beer float made with locally made Northwoods Soda! We love to celebrate the dads in our lives   all dads get one root beer float FREE!
X-ALT-DESC;FMTTYPE=text/html:<div>\n<p class="v1MsoNormal" style="box-sizing: border-box\; margin: 0in\; background-color: rgb(255\, 255\, 255)\; line-height: 16.1px\; vertical-align: baseline\;"><span style="color: black\; font-family: Roboto\, sans-serif\; font-size: 14px\; box-sizing: border-box\; line-height: 16.1px\;"><font face="tahoma\, sans-serif" style="box-sizing: border-box\;">Farm Fresh Father&#39\;s Day Weekend!</font></span><br />\n<span style="color: black\; font-family: Roboto\, sans-serif\; font-size: 14px\; box-sizing: border-box\; line-height: 16.1px\;"><font face="tahoma\, sans-serif" style="box-sizing: border-box\;">June&#39\;s event lands on Father&#39\;s Day and we are very excited about this! The market&#39\;s June theme will cater to Dads\, with vintage tools\, workbenches\, and decor. We will also have many unique gift ideas for Dads\, including pre-made gift baskets\, unique Michigan made snacks\, and camping gifts! The yard games will be out and the kids play area open\, so make sure to bring the whole family to the farm to pick up something&nbsp\;special for Dad and to spend some quality&nbsp\;time! We will help you make the big guy in your life feel extra loved on his big weekend!</font></span><br />\n<br />\n<span style="color: black\; font-family: Roboto\, sans-serif\; font-size: 14px\; box-sizing: border-box\; line-height: 16.1px\;"><font face="tahoma\, sans-serif" style="box-sizing: border-box\;">Saturday June 17th Father&#39\;s Day 5k Farm Run&nbsp\;</font></span><br />\n<span style="color: black\; font-family: tahoma\, sans-serif\; font-size: 14px\; text-indent: 0.5in\;">Saturday 17</span><span style="color: black\; font-family: tahoma\, sans-serif\; font-size: 10.5px\; text-indent: 0.5in\; box-sizing: border-box\; position: relative\; line-height: 0\; vertical-align: baseline\; top: -0.5em\;">th</span><span style="color: black\; font-family: tahoma\, sans-serif\; font-size: 14px\; text-indent: 0.5in\;">&nbsp\;</span><span style="color: black\; font-family: tahoma\, sans-serif\; font-size: 14px\; text-indent: 0.5in\;">we will be hosting our first annual Father&#39\;s Day 5k Farm Run!&nbsp\;<br />\nPut on your running shoes and enjoy a fun run through our 3</span><span style="color: black\; font-family: tahoma\, sans-serif\; font-size: 10.5px\; text-indent: 0.5in\; box-sizing: border-box\; position: relative\; line-height: 0\; vertical-align: baseline\; top: -0.5em\;">rd</span><span style="color: black\; font-family: tahoma\, sans-serif\; font-size: 14px\; text-indent: 0.5in\;">&nbsp\;</span><span style="text-indent: 0.5in\;"><font color="#000000" face="tahoma\, sans-serif"><span style="font-size: 14px\;">generation family farm! All ages welcome! After the run cool off with&nbsp\;a farm fresh root beer float made with locally&nbsp\;made Northwoods Soda! We love to celebrate&nbsp\;the dads&nbsp\;in our lives &ndash\; all dads&nbsp\;get one root beer float FREE!</span></font></span></p>\n</div>\n
LOCATION:Myrtle & Maude's 10937 Elk Lake Road Elk Rapids MI 49629
UID:e.2409.36288
SEQUENCE:3
DTSTAMP:20260420T022514Z
URL:https://business.elkrapidschamber.org/events/details/myrtle-maude-s-farm-fresh-father-s-day-weekend-06-16-2023-36288
END:VEVENT

END:VCALENDAR
