BEGIN:VCALENDAR
VERSION:2.0
PRODID:-//ChamberMaster//Event Calendar 2.0//EN
METHOD:PUBLISH
X-PUBLISHED-TTL:P3D
REFRESH-INTERVAL:P3D
CALSCALE:GREGORIAN
BEGIN:VEVENT
DTSTART:20231117T150000Z
DTEND:20231117T220000Z
X-MICROSOFT-CDO-ALLDAYEVENT:FALSE
SUMMARY:Myrtle & Maude's Christmas on the Farm Event
DESCRIPTION:We close October 29th for the fall season ... giving us time to flip the market to all things Christmas   a magical transformation sure to put you into the holiday spirit!\n\nThey say there is no place like home for the holidays   but we say there is no place like home on the Farm! You will find the market exploding with the warmth of Christmas   including gifts\, d cor\, and treats!\n\nSanta arrives on Sunday with his LIVE reindeer! Make sure to bring the kids out for a squeeze from the big guy & so he can hear their biggest wish this year!\n\n\n\nSunday Nov 19th\, Santa and his Reindeer on the farm!\n\nSanta arrives with his live reindeer from 12pm-2pm! EM Creative Photography will also be there for professional photos with Santa.
X-ALT-DESC;FMTTYPE=text/html:<p class="v1MsoNormal" style="box-sizing: border-box\; margin: 0in\; color: rgb(44\, 54\, 58)\; font-family: Roboto\, sans-serif\; font-size: 14px\; background-color: rgb(255\, 255\, 255)\; line-height: normal\; vertical-align: baseline\;"><span style="box-sizing: border-box\; color: black\;"><font face="tahoma\, sans-serif" style="box-sizing: border-box\;">We close October 29th for the fall season ... giving us time to flip the market to all things Christmas &ndash\; a magical transformation sure to put you into the holiday spirit!</font></span></p>\n\n<p class="v1MsoNormal" style="box-sizing: border-box\; margin: 0in\; color: rgb(44\, 54\, 58)\; font-family: Roboto\, sans-serif\; font-size: 14px\; background-color: rgb(255\, 255\, 255)\; line-height: normal\; vertical-align: baseline\;"><span style="box-sizing: border-box\; color: black\;"><font face="tahoma\, sans-serif" style="box-sizing: border-box\;">They say there is no place like home for the holidays &ndash\; but we say there is no place like home on the Farm! You will find the market exploding with the warmth of Christmas &ndash\; including gifts\, d&eacute\;cor\, and treats!</font></span></p>\n\n<p class="v1MsoNormal" style="box-sizing: border-box\; margin: 0in 0in 8pt\; color: rgb(44\, 54\, 58)\; font-family: Roboto\, sans-serif\; font-size: 14px\; background-color: rgb(255\, 255\, 255)\; line-height: normal\; vertical-align: baseline\;"><span style="box-sizing: border-box\; color: black\;"><font face="tahoma\, sans-serif" style="box-sizing: border-box\;">Santa arrives on Sunday with his LIVE reindeer! Make sure to bring the kids out for a squeeze from the big guy &amp\; so he can hear their biggest wish this year!</font></span><br />\n<br />\n<font face="tahoma\, sans-serif" style="box-sizing: border-box\;"><span style="box-sizing: border-box\; color: black\;"><span style="box-sizing: border-box\; font-weight: bolder\;">Sunday Nov 19th\,&nbsp\;Santa and his Reindeer on the farm!</span></span></font></p>\n\n<p class="v1MsoNormal" style="box-sizing: border-box\; margin: 0in 0in 0in 0.25in\; color: rgb(44\, 54\, 58)\; font-family: Roboto\, sans-serif\; font-size: 14px\; background-color: rgb(255\, 255\, 255)\; line-height: normal\; vertical-align: baseline\;"><span style="box-sizing: border-box\; color: black\;"><font face="tahoma\, sans-serif" style="box-sizing: border-box\;">Santa arrives with his live reindeer from 12pm-2pm! EM Creative Photography will also be there for professional photos with Santa.</font></span></p>\n\n<div>\n<div>&nbsp\;</div>\n</div>\n
LOCATION:Myrtle & Maudes 10937 Elk Lake Road Elk Rapids MI 49629
UID:e.2409.36376
SEQUENCE:3
DTSTAMP:20260419T180211Z
URL:https://business.elkrapidschamber.org/events/details/myrtle-maude-s-christmas-on-the-farm-event-11-17-2023-36376
END:VEVENT

END:VCALENDAR
