BEGIN:VCALENDAR
VERSION:2.0
PRODID:-//ChamberMaster//Event Calendar 2.0//EN
METHOD:PUBLISH
X-PUBLISHED-TTL:P3D
REFRESH-INTERVAL:P3D
CALSCALE:GREGORIAN
BEGIN:VEVENT
DTSTART:20240121T000000Z
DTEND:20240121T020000Z
X-MICROSOFT-CDO-ALLDAYEVENT:FALSE
SUMMARY:Music House welcomes local band\, East Bay Drive
DESCRIPTION:The Music House Museum is happy to welcome local band East Bay Drive at 7:00PM\, January 20\, 2024\n\nEast Bay Drive is a contemporary American jazz group at 7:00PM\, January The members of the group are David Chown (keyboards)\, Rick Kiehle (guitars)\, John Paul (bass)\, and Alex Wyant (drums). The band formed in 2019\, a collection of eclectic musicians who met at MusicHub.Live Studios and who all wanted to write original music and revisit some jazz fusion music the likes of Bob James\, Larry Carton\, Lee Ritenour\, David Sanborn\, and Steely Dan. Their unique brand of entertainment fuses dynamic grooves with deep feel\, and a friendly humble approach to music that will make you want to move with the groove.\n\nYou can get tickets by going to MyNorthTickets here\, visiting musichouse.org or by calling 231-938-9300
X-ALT-DESC;FMTTYPE=text/html:<span style="color: rgb(5\, 5\, 5)\; font-family: &quot\;Segoe UI Historic&quot\;\, &quot\;Segoe UI&quot\;\, Helvetica\, Arial\, sans-serif\; font-size: 15px\; background-color: rgb(255\, 255\, 255)\;">The Music House Museum is happy to welcome local band East Bay Drive at 7:00PM\, January 20\, 2024</span><br style="color: rgb(5\, 5\, 5)\; font-family: &quot\;Segoe UI Historic&quot\;\, &quot\;Segoe UI&quot\;\, Helvetica\, Arial\, sans-serif\; font-size: 15px\; background-color: rgb(255\, 255\, 255)\;" />\n<span style="color: rgb(5\, 5\, 5)\; font-family: &quot\;Segoe UI Historic&quot\;\, &quot\;Segoe UI&quot\;\, Helvetica\, Arial\, sans-serif\; font-size: 15px\; background-color: rgb(255\, 255\, 255)\;">East Bay Drive is a contemporary American jazz group at 7:00PM\, January The members of the group are David Chown (keyboards)\, Rick Kiehle (guitars)\, John Paul (bass)\, and Alex Wyant (drums). The band formed in 2019\, a collection of eclectic musicians who met at MusicHub.Live Studios and who all wanted to write original music and revisit some jazz fusion music the likes of Bob James\, Larry Carton\, Lee Ritenour\, David Sanborn\, and Steely Dan. Their unique brand of entertainment fuses dynamic grooves with deep feel\, and a friendly humble approach to music that will make you want to move with the groove.</span><br style="color: rgb(5\, 5\, 5)\; font-family: &quot\;Segoe UI Historic&quot\;\, &quot\;Segoe UI&quot\;\, Helvetica\, Arial\, sans-serif\; font-size: 15px\; background-color: rgb(255\, 255\, 255)\;" />\n<span style="color: rgb(5\, 5\, 5)\; font-family: &quot\;Segoe UI Historic&quot\;\, &quot\;Segoe UI&quot\;\, Helvetica\, Arial\, sans-serif\; font-size: 15px\; background-color: rgb(255\, 255\, 255)\;">You can get tickets by going to MyNorthTickets here\, visiting&nbsp\;</span><a class="x1i10hfl xjbqb8w x6umtig x1b1mbwd xaqea5y xav7gou x9f619 x1ypdohk xt0psk2 xe8uvvx xdj266r x11i5rnm xat24cr x1mh8g0r xexx8yu x4uap5 x18d9i69 xkhd6sd x16tdsg8 x1hl2dhg xggy1nq x1a2a7pz xt0b8zv x1fey0fg" href="https://l.facebook.com/l.php?u=http%3A%2F%2Fmusichouse.org%2F%3Ffbclid%3DIwAR2fZpRY8C364UNIyShV2Z912Od2wUiPt4H-Ak4vViMfXOvQvf5aMJh6cGo&amp\;h=AT0kKQLJcE2OLJ8T7WavoeXeboysy1QQrAgk3_ZW-wE0mVstKVRzPcTu6D4JTLeJoGLWXY5CpB39IWsA-Rm_G23hHb3rAMQHGZVURo7UkLqKGUlRXFdtM4Ezt_GCC-M_CzkS&amp\;__tn__=q&amp\;c[0]=AT1YykYbi-6NVtQ2VHEJkusGhOW2yX-xVrbIUcsWxCdZ1CvGOykKWe2a1fFHWj_1mb6wiJG6SkEuXYN4oYE3tkgB1hIqZsPbK3JEd1S_-6_iDYvqr-Rf95arDQIy5qB4LshI66ThK-Oilkx0yWQYx7Swe7Jc" rel="nofollow noreferrer" role="link" style="cursor: pointer\; text-decoration-line: none\; outline: none\; border-width: 0px\; border-style: initial\; border-color: initial\; list-style: none\; margin: 0px\; padding: 0px\; box-sizing: border-box\; background-color: rgb(255\, 255\, 255)\; -webkit-tap-highlight-color: transparent\; touch-action: manipulation\; display: inline\; font-family: &quot\;Segoe UI Historic&quot\;\, &quot\;Segoe UI&quot\;\, Helvetica\, Arial\, sans-serif\; font-size: 15px\;" tabindex="0" target="_blank">musichouse.org</a><span style="color: rgb(5\, 5\, 5)\; font-family: &quot\;Segoe UI Historic&quot\;\, &quot\;Segoe UI&quot\;\, Helvetica\, Arial\, sans-serif\; font-size: 15px\; background-color: rgb(255\, 255\, 255)\;">&nbsp\;or by calling 231-938-9300</span>
LOCATION:7377 US 31 N. Williamsburg\, MI
UID:e.2409.40856
SEQUENCE:3
DTSTAMP:20260419T123232Z
URL:https://business.elkrapidschamber.org/events/details/music-house-welcomes-local-band-east-bay-drive-40856
END:VEVENT

END:VCALENDAR
