BEGIN:VCALENDAR
VERSION:2.0
PRODID:-//ChamberMaster//Event Calendar 2.0//EN
METHOD:PUBLISH
X-PUBLISHED-TTL:P3D
REFRESH-INTERVAL:P3D
CALSCALE:GREGORIAN
BEGIN:VEVENT
DTSTART:20240114T000000Z
DTEND:20240114T020000Z
X-MICROSOFT-CDO-ALLDAYEVENT:FALSE
SUMMARY:Music House Presents Calliope Brass with Northern Lower Brass
DESCRIPTION:The Music House Museum is happy to welcome the Calliope Brass ensemble with special guest Northern Lower Brass at 7:00PM\, January 13\, 2024\n\nAmerican ensemble Calliope Brass collaborates with the world's most prominent creatives to\n\nbuild evocative\, story-driven concert experiences. Inspired by the eponymous storytelling muse\n\nin Greek mythology\, Calliope Brass is known for its innovative approach\, successfully expanding\n\nupon the more traditional norm of recital-style performances.\n\nBeyond traditional concert performances\, Calliope is committed to community impact. In the\n\n2022-23 season\, the ensemble partnered with CaringKind NYC\, a nonprofit devoted to aiding\n\nthose suffering from dementia and their caregivers\, and Dances for a Variable Population\, a\n\ndance nonprofit\, to create With Music and Movement in Mind\, a brand-new\, innovative event\n\nthat provided movement experiences accompanied by live music. This partnership is planned to\n\ncontinue in future seasons.\n\nWell-loved in the education community\, Calliope Brass's flagship educational initiative What's\n\nYour Story? debuted during the 2018-19 season to great acclaim. Featuring a live\n\npuppet-theatre performance\, student-written stories\, and an original modular score written for\n\nthe program by Broadway composer Kat Sherrell\, What's Your Story? has been performed at\n\nover 30 schools in NYC\, Connecticut\, Pennsylvania\, New Jersey\, and Vermont. The Northern Lower Brass Quartet is a staple of the Northern Michigan music scene. Members Richard Sunier\, Kevin LaRose\, Tim Willson and Jerry Young all work as professional musicians and come together for gigs like the beloved Tuba Christmas.\n\nYou can get tickets by going to MyNorthTickets here\, visiting musichouse.org or by calling 231-938-9300
X-ALT-DESC;FMTTYPE=text/html:<span style="color: rgb(5\, 5\, 5)\; font-family: &quot\;Segoe UI Historic&quot\;\, &quot\;Segoe UI&quot\;\, Helvetica\, Arial\, sans-serif\; font-size: 15px\; background-color: rgb(255\, 255\, 255)\;">The Music House Museum is happy to welcome the Calliope Brass ensemble with special guest Northern Lower Brass at 7:00PM\, January 13\, 2024</span><br style="color: rgb(5\, 5\, 5)\; font-family: &quot\;Segoe UI Historic&quot\;\, &quot\;Segoe UI&quot\;\, Helvetica\, Arial\, sans-serif\; font-size: 15px\; background-color: rgb(255\, 255\, 255)\;" />\n<span style="color: rgb(5\, 5\, 5)\; font-family: &quot\;Segoe UI Historic&quot\;\, &quot\;Segoe UI&quot\;\, Helvetica\, Arial\, sans-serif\; font-size: 15px\; background-color: rgb(255\, 255\, 255)\;">American ensemble Calliope Brass collaborates with the world&rsquo\;s most prominent creatives to</span><br style="color: rgb(5\, 5\, 5)\; font-family: &quot\;Segoe UI Historic&quot\;\, &quot\;Segoe UI&quot\;\, Helvetica\, Arial\, sans-serif\; font-size: 15px\; background-color: rgb(255\, 255\, 255)\;" />\n<span style="color: rgb(5\, 5\, 5)\; font-family: &quot\;Segoe UI Historic&quot\;\, &quot\;Segoe UI&quot\;\, Helvetica\, Arial\, sans-serif\; font-size: 15px\; background-color: rgb(255\, 255\, 255)\;">build evocative\, story-driven concert experiences. Inspired by the eponymous storytelling muse</span><br style="color: rgb(5\, 5\, 5)\; font-family: &quot\;Segoe UI Historic&quot\;\, &quot\;Segoe UI&quot\;\, Helvetica\, Arial\, sans-serif\; font-size: 15px\; background-color: rgb(255\, 255\, 255)\;" />\n<span style="color: rgb(5\, 5\, 5)\; font-family: &quot\;Segoe UI Historic&quot\;\, &quot\;Segoe UI&quot\;\, Helvetica\, Arial\, sans-serif\; font-size: 15px\; background-color: rgb(255\, 255\, 255)\;">in Greek mythology\, Calliope Brass is known for its innovative approach\, successfully expanding</span><br style="color: rgb(5\, 5\, 5)\; font-family: &quot\;Segoe UI Historic&quot\;\, &quot\;Segoe UI&quot\;\, Helvetica\, Arial\, sans-serif\; font-size: 15px\; background-color: rgb(255\, 255\, 255)\;" />\n<span style="color: rgb(5\, 5\, 5)\; font-family: &quot\;Segoe UI Historic&quot\;\, &quot\;Segoe UI&quot\;\, Helvetica\, Arial\, sans-serif\; font-size: 15px\; background-color: rgb(255\, 255\, 255)\;">upon the more traditional norm of recital-style performances.</span><br style="color: rgb(5\, 5\, 5)\; font-family: &quot\;Segoe UI Historic&quot\;\, &quot\;Segoe UI&quot\;\, Helvetica\, Arial\, sans-serif\; font-size: 15px\; background-color: rgb(255\, 255\, 255)\;" />\n<span style="color: rgb(5\, 5\, 5)\; font-family: &quot\;Segoe UI Historic&quot\;\, &quot\;Segoe UI&quot\;\, Helvetica\, Arial\, sans-serif\; font-size: 15px\; background-color: rgb(255\, 255\, 255)\;">Beyond traditional concert performances\, Calliope is committed to community impact. In the</span><br style="color: rgb(5\, 5\, 5)\; font-family: &quot\;Segoe UI Historic&quot\;\, &quot\;Segoe UI&quot\;\, Helvetica\, Arial\, sans-serif\; font-size: 15px\; background-color: rgb(255\, 255\, 255)\;" />\n<span style="color: rgb(5\, 5\, 5)\; font-family: &quot\;Segoe UI Historic&quot\;\, &quot\;Segoe UI&quot\;\, Helvetica\, Arial\, sans-serif\; font-size: 15px\; background-color: rgb(255\, 255\, 255)\;">2022-23 season\, the ensemble partnered with CaringKind NYC\, a nonprofit devoted to aiding</span><br style="color: rgb(5\, 5\, 5)\; font-family: &quot\;Segoe UI Historic&quot\;\, &quot\;Segoe UI&quot\;\, Helvetica\, Arial\, sans-serif\; font-size: 15px\; background-color: rgb(255\, 255\, 255)\;" />\n<span style="color: rgb(5\, 5\, 5)\; font-family: &quot\;Segoe UI Historic&quot\;\, &quot\;Segoe UI&quot\;\, Helvetica\, Arial\, sans-serif\; font-size: 15px\; background-color: rgb(255\, 255\, 255)\;">those suffering from dementia and their caregivers\, and Dances for a Variable Population\, a</span><br style="color: rgb(5\, 5\, 5)\; font-family: &quot\;Segoe UI Historic&quot\;\, &quot\;Segoe UI&quot\;\, Helvetica\, Arial\, sans-serif\; font-size: 15px\; background-color: rgb(255\, 255\, 255)\;" />\n<span style="color: rgb(5\, 5\, 5)\; font-family: &quot\;Segoe UI Historic&quot\;\, &quot\;Segoe UI&quot\;\, Helvetica\, Arial\, sans-serif\; font-size: 15px\; background-color: rgb(255\, 255\, 255)\;">dance nonprofit\, to create With Music and Movement in Mind\, a brand-new\, innovative event</span><br style="color: rgb(5\, 5\, 5)\; font-family: &quot\;Segoe UI Historic&quot\;\, &quot\;Segoe UI&quot\;\, Helvetica\, Arial\, sans-serif\; font-size: 15px\; background-color: rgb(255\, 255\, 255)\;" />\n<span style="color: rgb(5\, 5\, 5)\; font-family: &quot\;Segoe UI Historic&quot\;\, &quot\;Segoe UI&quot\;\, Helvetica\, Arial\, sans-serif\; font-size: 15px\; background-color: rgb(255\, 255\, 255)\;">that provided movement experiences accompanied by live music. This partnership is planned to</span><br style="color: rgb(5\, 5\, 5)\; font-family: &quot\;Segoe UI Historic&quot\;\, &quot\;Segoe UI&quot\;\, Helvetica\, Arial\, sans-serif\; font-size: 15px\; background-color: rgb(255\, 255\, 255)\;" />\n<span style="color: rgb(5\, 5\, 5)\; font-family: &quot\;Segoe UI Historic&quot\;\, &quot\;Segoe UI&quot\;\, Helvetica\, Arial\, sans-serif\; font-size: 15px\; background-color: rgb(255\, 255\, 255)\;">continue in future seasons.</span><br style="color: rgb(5\, 5\, 5)\; font-family: &quot\;Segoe UI Historic&quot\;\, &quot\;Segoe UI&quot\;\, Helvetica\, Arial\, sans-serif\; font-size: 15px\; background-color: rgb(255\, 255\, 255)\;" />\n<span style="color: rgb(5\, 5\, 5)\; font-family: &quot\;Segoe UI Historic&quot\;\, &quot\;Segoe UI&quot\;\, Helvetica\, Arial\, sans-serif\; font-size: 15px\; background-color: rgb(255\, 255\, 255)\;">Well-loved in the education community\, Calliope Brass&rsquo\;s flagship educational initiative What&rsquo\;s</span><br style="color: rgb(5\, 5\, 5)\; font-family: &quot\;Segoe UI Historic&quot\;\, &quot\;Segoe UI&quot\;\, Helvetica\, Arial\, sans-serif\; font-size: 15px\; background-color: rgb(255\, 255\, 255)\;" />\n<span style="color: rgb(5\, 5\, 5)\; font-family: &quot\;Segoe UI Historic&quot\;\, &quot\;Segoe UI&quot\;\, Helvetica\, Arial\, sans-serif\; font-size: 15px\; background-color: rgb(255\, 255\, 255)\;">Your Story? debuted during the 2018-19 season to great acclaim. Featuring a live</span><br style="color: rgb(5\, 5\, 5)\; font-family: &quot\;Segoe UI Historic&quot\;\, &quot\;Segoe UI&quot\;\, Helvetica\, Arial\, sans-serif\; font-size: 15px\; background-color: rgb(255\, 255\, 255)\;" />\n<span style="color: rgb(5\, 5\, 5)\; font-family: &quot\;Segoe UI Historic&quot\;\, &quot\;Segoe UI&quot\;\, Helvetica\, Arial\, sans-serif\; font-size: 15px\; background-color: rgb(255\, 255\, 255)\;">puppet-theatre performance\, student-written stories\, and an original modular score written for</span><br style="color: rgb(5\, 5\, 5)\; font-family: &quot\;Segoe UI Historic&quot\;\, &quot\;Segoe UI&quot\;\, Helvetica\, Arial\, sans-serif\; font-size: 15px\; background-color: rgb(255\, 255\, 255)\;" />\n<span style="color: rgb(5\, 5\, 5)\; font-family: &quot\;Segoe UI Historic&quot\;\, &quot\;Segoe UI&quot\;\, Helvetica\, Arial\, sans-serif\; font-size: 15px\; background-color: rgb(255\, 255\, 255)\;">the program by Broadway composer Kat Sherrell\, What&rsquo\;s Your Story? has been performed at</span><br style="color: rgb(5\, 5\, 5)\; font-family: &quot\;Segoe UI Historic&quot\;\, &quot\;Segoe UI&quot\;\, Helvetica\, Arial\, sans-serif\; font-size: 15px\; background-color: rgb(255\, 255\, 255)\;" />\n<span style="color: rgb(5\, 5\, 5)\; font-family: &quot\;Segoe UI Historic&quot\;\, &quot\;Segoe UI&quot\;\, Helvetica\, Arial\, sans-serif\; font-size: 15px\; background-color: rgb(255\, 255\, 255)\;">over 30 schools in NYC\, Connecticut\, Pennsylvania\, New Jersey\, and Vermont. The Northern Lower Brass Quartet is a staple of the Northern Michigan music scene. Members Richard Sunier\, Kevin LaRose\, Tim Willson and Jerry Young all work as professional musicians and come together for gigs like the beloved Tuba Christmas.</span><br style="color: rgb(5\, 5\, 5)\; font-family: &quot\;Segoe UI Historic&quot\;\, &quot\;Segoe UI&quot\;\, Helvetica\, Arial\, sans-serif\; font-size: 15px\; background-color: rgb(255\, 255\, 255)\;" />\n<span style="color: rgb(5\, 5\, 5)\; font-family: &quot\;Segoe UI Historic&quot\;\, &quot\;Segoe UI&quot\;\, Helvetica\, Arial\, sans-serif\; font-size: 15px\; background-color: rgb(255\, 255\, 255)\;">You can get tickets by going to MyNorthTickets here\, visiting&nbsp\;</span><a class="x1i10hfl xjbqb8w x6umtig x1b1mbwd xaqea5y xav7gou x9f619 x1ypdohk xt0psk2 xe8uvvx xdj266r x11i5rnm xat24cr x1mh8g0r xexx8yu x4uap5 x18d9i69 xkhd6sd x16tdsg8 x1hl2dhg xggy1nq x1a2a7pz xt0b8zv x1fey0fg" href="https://l.facebook.com/l.php?u=http%3A%2F%2Fmusichouse.org%2F%3Ffbclid%3DIwAR13uPHFKtSGpDm8_6gwqgRaA8qcT09pZ6UoMrF4Sn5jhgCn4adWQHyqbB0&amp\;h=AT0kKQLJcE2OLJ8T7WavoeXeboysy1QQrAgk3_ZW-wE0mVstKVRzPcTu6D4JTLeJoGLWXY5CpB39IWsA-Rm_G23hHb3rAMQHGZVURo7UkLqKGUlRXFdtM4Ezt_GCC-M_CzkS&amp\;__tn__=q&amp\;c[0]=AT1SUlVkbTe9uZ5ZWL0-Ay-Wcl6r4P9Idxt37Q_GzKwpqzdCqS4PgpCWgGeLiP3uMeJZWzhJ2ijfDKNE9Cg8Ymak812XoPkCLVzBdYTFZwsMKUPqwgWma37dk1QOSpp5zTkTYOXJmjLtemGEsWXVCOFyhu8S" rel="nofollow noreferrer" role="link" style="cursor: pointer\; text-decoration-line: none\; outline: none\; border-width: 0px\; border-style: initial\; border-color: initial\; list-style: none\; margin: 0px\; padding: 0px\; box-sizing: border-box\; background-color: rgb(255\, 255\, 255)\; -webkit-tap-highlight-color: transparent\; touch-action: manipulation\; display: inline\; font-family: &quot\;Segoe UI Historic&quot\;\, &quot\;Segoe UI&quot\;\, Helvetica\, Arial\, sans-serif\; font-size: 15px\;" tabindex="0" target="_blank">musichouse.org</a><span style="color: rgb(5\, 5\, 5)\; font-family: &quot\;Segoe UI Historic&quot\;\, &quot\;Segoe UI&quot\;\, Helvetica\, Arial\, sans-serif\; font-size: 15px\; background-color: rgb(255\, 255\, 255)\;">&nbsp\;or by calling 231-938-9300</span>
LOCATION:47377 US 31 Williamsburg\, MI
UID:e.2409.40855
SEQUENCE:3
DTSTAMP:20260419T122945Z
URL:https://business.elkrapidschamber.org/events/details/music-house-presents-calliope-brass-with-northern-lower-brass-40855
END:VEVENT

END:VCALENDAR
