BEGIN:VCALENDAR
VERSION:2.0
PRODID:-//ChamberMaster//Event Calendar 2.0//EN
METHOD:PUBLISH
X-PUBLISHED-TTL:P3D
REFRESH-INTERVAL:P3D
CALSCALE:GREGORIAN
BEGIN:VEVENT
DTSTART:20230513T180000Z
DTEND:20230513T200000Z
X-MICROSOFT-CDO-ALLDAYEVENT:FALSE
SUMMARY:Music House Museum Silent Film w/Andrew Rogers
DESCRIPTION:The Music House Museum is proud to welcome organist Andrew Rogers accompanying the 1923 classic silent film "Safety Last" and the short "Ask Father" starring Harold Lloyd Saturday May 13 at 2:00PM and again at 5:00PM\n\n \n\nSafety Last! is a 1923 American silent romantic-comedy film starring Harold Lloyd. It includes one of the most famous images from the silent-film era: Lloyd clutching the hands of a large clock as he dangles from the outside of a skyscraper above moving traffic. The film was highly successful and critically hailed\, and it cemented Lloyd's status as a major figure in early motion pictures. The film's title is a play on the common expression "safety first"\, which prioritizes safety to avoid accidents\, especially in workplaces. Lloyd performed some of the climbing stunts himself\,\n\nAsk Father is a short\, 13-minute\, slapstick-style comedy made by Lloyd in 1919 before his entry into full-length feature films.\n\nThe film will be accompanied by Andrew Rogers on our 'Mighty'Wurlitzer theater organ. Rogers\, a Detroit native\, is an organist at the Michigan Theatre in Ann Arbor. He also scores and performs silent films\, and performs concerts throughout the U.S. and Internationally.
X-ALT-DESC;FMTTYPE=text/html:<p style="overflow-wrap: break-word\; margin: 0px 0px 9px\; padding: 0px\; border: 0px\; outline: 0px\; font-size: 12px\; vertical-align: baseline\; background: rgb(255\, 255\, 255)\; orphans: 4\; box-sizing: border-box\; color: rgb(51\, 51\, 51)\; font-family: Verdana\, Geneva\, sans-serif\;"><strong style="margin: 0px\; padding: 0px\; border: 0px\; outline: 0px\; vertical-align: baseline\; background: transparent\; box-sizing: border-box\;">The Music House Museum is proud to welcome organist Andrew Rogers accompanying the 1923 classic silent film &ldquo\;Safety Last&rdquo\; and the short &ldquo\;Ask Father&rdquo\; starring Harold Lloyd Saturday May 13 at 2:00PM and again at 5:00PM</strong></p>\n\n<p style="overflow-wrap: break-word\; margin: 0px 0px 9px\; padding: 0px\; border: 0px\; outline: 0px\; font-size: 12px\; vertical-align: baseline\; background: rgb(255\, 255\, 255)\; orphans: 4\; box-sizing: border-box\; color: rgb(51\, 51\, 51)\; font-family: Verdana\, Geneva\, sans-serif\;">&nbsp\;</p>\n\n<p style="overflow-wrap: break-word\; margin: 0px 0px 9px\; padding: 0px\; border: 0px\; outline: 0px\; font-size: 12px\; vertical-align: baseline\; background: rgb(255\, 255\, 255)\; orphans: 4\; box-sizing: border-box\; color: rgb(51\, 51\, 51)\; font-family: Verdana\, Geneva\, sans-serif\;"><strong style="margin: 0px\; padding: 0px\; border: 0px\; outline: 0px\; vertical-align: baseline\; background: transparent\; box-sizing: border-box\;"><em style="margin: 0px\; padding: 0px\; border: 0px\; outline: 0px\; vertical-align: baseline\; background: transparent\; box-sizing: border-box\;">Safety Last!</em></strong>&nbsp\;is a 1923 American silent romantic-comedy film starring&nbsp\;Harold Lloyd. It includes one of the most famous images from the&nbsp\;<a href="https://en.wikipedia.org/wiki/Silent_film" style="margin: 0px\; padding: 0px\; border: none\; outline: 0px\; vertical-align: baseline\; background: transparent\; color: rgb(54\, 19\, 25)\; box-sizing: border-box\; box-shadow: none\; text-decoration-line: none !important\;">silent-film</a>&nbsp\;era: Lloyd clutching the hands of a large clock as he dangles from the outside of a skyscraper above moving traffic.&nbsp\;The film was highly successful and critically hailed\, and it cemented Lloyd&#39\;s status as a major figure in early motion pictures. The film&#39\;s title is a play on the common expression &quot\;safety first&quot\;\, which prioritizes safety to avoid accidents\, especially in workplaces. Lloyd performed some of the climbing stunts himself\,</p>\n\n<p style="overflow-wrap: break-word\; margin: 0px 0px 9px\; padding: 0px\; border: 0px\; outline: 0px\; font-size: 12px\; vertical-align: baseline\; background: rgb(255\, 255\, 255)\; orphans: 4\; box-sizing: border-box\; color: rgb(51\, 51\, 51)\; font-family: Verdana\, Geneva\, sans-serif\;"><strong style="margin: 0px\; padding: 0px\; border: 0px\; outline: 0px\; vertical-align: baseline\; background: transparent\; box-sizing: border-box\;"><em style="margin: 0px\; padding: 0px\; border: 0px\; outline: 0px\; vertical-align: baseline\; background: transparent\; box-sizing: border-box\;">Ask Father</em></strong>&nbsp\;is a&nbsp\;short\, 13-minute\, slapstick-style&nbsp\;comedy made by&nbsp\;Lloyd in 1919 before his entry into full-length feature films.</p>\n\n<p style="overflow-wrap: break-word\; margin: 0px 0px 9px\; padding: 0px\; border: 0px\; outline: 0px\; font-size: 12px\; vertical-align: baseline\; background: rgb(255\, 255\, 255)\; orphans: 4\; box-sizing: border-box\; color: rgb(51\, 51\, 51)\; font-family: Verdana\, Geneva\, sans-serif\;">The film will be accompanied by Andrew Rogers on our &lsquo\;Mighty&rsquo\;Wurlitzer theater organ. Rogers\, a Detroit native\, is an organist at the Michigan Theatre in Ann Arbor. He also scores and performs silent films\, and performs concerts throughout the U.S. and Internationally.</p>\n
LOCATION:Music House Museum 7377 U.S. 31 North Williamsburg
UID:e.2409.37793
SEQUENCE:3
DTSTAMP:20260420T035454Z
URL:https://business.elkrapidschamber.org/events/details/music-house-museum-silent-film-w-andrew-rogers-37793
END:VEVENT

END:VCALENDAR
