BEGIN:VCALENDAR
VERSION:2.0
PRODID:-//ChamberMaster//Event Calendar 2.0//EN
METHOD:PUBLISH
X-PUBLISHED-TTL:P3D
REFRESH-INTERVAL:P3D
CALSCALE:GREGORIAN
BEGIN:VEVENT
DTSTART:20230922T230000Z
DTEND:20230923T010000Z
X-MICROSOFT-CDO-ALLDAYEVENT:FALSE
SUMMARY:Music House Museum presents Kingfisher
DESCRIPTION:The Music House Museum is proud to welcome Kingfisher is a seven piece group from Ann Arbor\, Michigan on September 22 at 7:00PM. Within the realm of Indie Folk Rock\, their unique sound features expansive horn and string arrangements complemented by electronic sampling and production to create a rich and layered sound. Kingfisher is composed of Sam DuBose (Writing\, Mixing\, Vocals\, Guitar)\, Sam Uribe Botero (Producing\, Recording Mixing\, BG Vocals\, Sample\, Saxophone)\, Kaysen Chown (Strings\, Acoustic Guitar)\, Connor Hoyt (Saxophone and Pedals)\, Callum Roberts (Trumpet\, Electric Guitar)\, Casey Cheatham (Drums\, BG Vocals)\, and Tyler Thenstedt (Bass\, BG Vocals). Their music draws comparisons to artists like Black Country\, New Road\, Bon Iver\, Big Thief and Buck Meek. Released last November\, Kingfisher's debut album Grip Your Fist\, I'm Heaven Bound has garnered significant attention across the country. With an ever-growing catalog\, Kingfisher continues to captivate audiences with their masterful musicianship and evocative storytelling.\n\nTickets can be purchased here or reserved by calling the Music House at 231-938-9300
X-ALT-DESC;FMTTYPE=text/html:<div class="xdj266r x11i5rnm xat24cr x1mh8g0r x1vvkbs" style="margin: 0px\; overflow-wrap: break-word\; font-family: &quot\;Segoe UI Historic&quot\;\, &quot\;Segoe UI&quot\;\, Helvetica\, Arial\, sans-serif\; color: rgb(5\, 5\, 5)\; font-size: 15px\; background-color: rgb(255\, 255\, 255)\;">The Music House Museum is proud to welcome Kingfisher is a seven piece group from Ann Arbor\, Michigan on September 22 at 7:00PM. Within the realm of Indie Folk Rock\, their unique sound features expansive horn and string arrangements complemented by electronic sampling and production to create a rich and layered sound. Kingfisher is composed of Sam DuBose (Writing\, Mixing\, Vocals\, Guitar)\, Sam Uribe Botero (Producing\, Recording Mixing\, BG Vocals\, Sample\, Saxophone)\, Kaysen Chown (Strings\, Acoustic Guitar)\, Connor Hoyt (Saxophone and Pedals)\, Callum Roberts (Trumpet\, Electric Guitar)\, Casey Cheatham (Drums\, BG Vocals)\, and Tyler Thenstedt (Bass\, BG Vocals). Their music draws comparisons to artists like Black Country\, New Road\, Bon Iver\, Big Thief and Buck Meek. Released last November\, Kingfisher&rsquo\;s debut album Grip Your Fist\, I&#39\;m Heaven Bound has garnered significant attention across the country. With an ever-growing catalog\, Kingfisher continues to captivate audiences with their masterful musicianship and evocative storytelling.</div>\n\n<div class="x11i5rnm xat24cr x1mh8g0r x1vvkbs xtlvy1s" style="margin: 0.5em 0px 0px\; overflow-wrap: break-word\; font-family: &quot\;Segoe UI Historic&quot\;\, &quot\;Segoe UI&quot\;\, Helvetica\, Arial\, sans-serif\; color: rgb(5\, 5\, 5)\; font-size: 15px\; background-color: rgb(255\, 255\, 255)\;">Tickets can be purchased here or reserved by calling the Music House at 231-938-9300</div>\n
LOCATION:7377 US 31 N. Williamsburg
UID:e.2409.39146
SEQUENCE:3
DTSTAMP:20260419T222540Z
URL:https://business.elkrapidschamber.org/events/details/music-house-museum-presents-kingfisher-39146
END:VEVENT

END:VCALENDAR
