BEGIN:VCALENDAR
VERSION:2.0
PRODID:-//ChamberMaster//Event Calendar 2.0//EN
METHOD:PUBLISH
X-PUBLISHED-TTL:P3D
REFRESH-INTERVAL:P3D
CALSCALE:GREGORIAN
BEGIN:VEVENT
DTSTART:20230623T230000Z
DTEND:20230624T010000Z
X-MICROSOFT-CDO-ALLDAYEVENT:FALSE
SUMMARY:Music House Museum - Charlie Chaplin Short Films
DESCRIPTION:The Music House Museum is proud to present three Charlie Chaplin Shorts\, "The Rink"\, "A Day's Pleasure" and "The Idle Class"\, accompanied by Interlochen Arts Academy Staff Pianist\, Steve Larson  \n Tickets
X-ALT-DESC;FMTTYPE=text/html:<span class="ai1ec-event-title" style="margin: 0px 0px 0.4em\; padding: 0px\; border: 0px\; outline: 0px\; font-size: 10.5pt\; vertical-align: baseline\; background: rgb(255\, 255\, 255)\; box-sizing: border-box\; color: rgb(51\, 89\, 128)\; font-weight: bold\; transition: color 0.1s ease 0s\; font-family: Verdana\, Geneva\, sans-serif\;">The Music House Museum is proud to present three Charlie Chaplin Shorts\, &ldquo\;The Rink&rdquo\;\, &ldquo\;A Day&rsquo\;s Pleasure&rdquo\; and &ldquo\;The Idle Class&rdquo\;\, accompanied by Interlochen Arts Academy Staff Pianist\, Steve Larson&nbsp\;&nbsp\;</span>\n<div class="ai1ec-sas-actions ai1ec-btn-group ai1ec-clearfix" style="margin: 0px 10px\; padding: 0px\; border: 0px\; outline: 0px\; font-size: 13px\; vertical-align: middle\; background: rgb(255\, 255\, 255)\; box-sizing: border-box\; position: relative\; text-wrap: nowrap\; float: right\; color: rgb(51\, 51\, 51)\; font-family: Verdana\, Geneva\, sans-serif\;"><a class="ai1ec-sas-action ai1ec-btn ai1ec-btn-primary ai1ec-btn-xs ai1ec-btn-sm ai1ec-sas-action-tickets" href="https://mynorthtickets.com/events/the-music-house-museum-is-proud-to-present-three-charlie-chaplin-shorts-the-rink-a-days-pleasure-and-the-idle-class-accompanied-by-interlochen-arts-academy-staff-pianist-steve-larson-at-700pm-on-friday-june-23-6-23-2023" style="margin: 0px\; padding: 1px 5px\; border: 1px solid rgb(97\, 173\, 67)\; outline: 0px\; font-size: 11px\; vertical-align: middle\; background: none rgb(109\, 187\, 79)\; color: rgb(255\, 255\, 255)\; line-height: 1.5\; border-radius: 0px\; box-sizing: border-box\; box-shadow: none\; display: none\; text-align: center\; cursor: pointer\; user-select: none\; position: relative\; float: left\; z-index: 3\; text-decoration-line: none !important\;" target="_blank">&nbsp\;<span class="ai1ec-hidden-xs" style="margin: 0px\; padding: 0px\; border: 0px\; outline: 0px\; vertical-align: baseline\; background: transparent\; box-sizing: border-box\; display: inline !important\;">Tickets</span>&nbsp\;</a></div>\n\n<div class="ai1ec-event-time" style="margin: 0px\; padding: 0px\; border: 0px\; outline: 0px\; font-size: 9pt\; vertical-align: baseline\; background: rgb(255\, 255\, 255)\; box-sizing: border-box\; font-weight: bold\; opacity: 0.8\; color: rgb(51\, 51\, 51)\; font-family: Verdana\, Geneva\, sans-serif\;">&nbsp\;</div>\n
LOCATION:7377 U.S. 31 North Williamsburg\, MI 49690
UID:e.2409.38394
SEQUENCE:3
DTSTAMP:20260420T011054Z
URL:https://business.elkrapidschamber.org/events/details/music-house-museum-charlie-chaplin-short-films-38394
END:VEVENT

END:VCALENDAR
