BEGIN:VCALENDAR
VERSION:2.0
PRODID:-//ChamberMaster//Event Calendar 2.0//EN
METHOD:PUBLISH
X-PUBLISHED-TTL:P3D
REFRESH-INTERVAL:P3D
CALSCALE:GREGORIAN
BEGIN:VEVENT
DTSTART:20230505T230000Z
DTEND:20230506T010000Z
X-MICROSOFT-CDO-ALLDAYEVENT:FALSE
SUMMARY:Music House Museum-Austin Stoddard Jazz Quartet
DESCRIPTION:The Music House Museum is proud to present The Austin Stoddard Jazz Quartet\, composed of academy students at Interlochen on Friday\, May 5th at 7:00 pm. They will be performing a concert of original arrangements featuring the music of Bill Evans\, an American jazz pianist\, and composer\, prolific in the '60s and '70s. His use of impressionist harmony\, interpretation of traditional jazz repertoire\, block chords\, and trademark rhythmically independent\, "singing" melodic lines continues to influence jazz pianists today.\n\nTickets are $25.00 for adults and $15.00 for students and can be purchased at MyNorth Tickets or at musichouse.org. We hope to see you there.
X-ALT-DESC;FMTTYPE=text/html:<p style="margin: 0px\; padding: 0px\; font-family: Arial\, Verdana\, Helvetica\, sans-serif\; font-size: 12px\; background-color: rgb(250\, 216\, 212)\;"><span style="font-size: 15px\; color: rgb(5\, 5\, 5)\;">The Music House Museum is proud to present The Austin Stoddard Jazz Quartet\, composed of academy students at Interlochen on Friday\, May 5th at 7:00 pm. They will be performing a concert of original arrangements featuring the music of Bill Evans\, an American jazz pianist\, and composer\, prolific in the &lsquo\;60s and &rsquo\;70s. His use of impressionist harmony\, interpretation of traditional jazz repertoire\, block chords\, and trademark rhythmically independent\, &quot\;singing&quot\; melodic lines continues to influence jazz pianists today.</span></p>\n\n<p style="margin: 0px\; padding: 0px\; font-family: Arial\, Verdana\, Helvetica\, sans-serif\; font-size: 12px\; background-color: rgb(250\, 216\, 212)\;"><span style="font-size: 15px\; color: rgb(5\, 5\, 5)\;">Tickets are $25.00 for adults and $15.00 for students and can be purchased at&nbsp\;</span><a href="https://musichouse.org/upcoming-events/" style="font-size: 15px\; color: rgb(40\, 79\, 161)\;" target="_blank">MyNorth Tickets</a><span style="font-size: 15px\; color: rgb(5\, 5\, 5)\;">&nbsp\;or at&nbsp\;</span><a href="https://l.facebook.com/l.php?u=http%3A%2F%2Fmusichouse.org%2F%3Ffbclid%3DIwAR3J6Gu4GBvfj6qNEehj4jaXb4Di7viP24-AbBsF06QELG9ue8OF5TIgQUI&amp\;h=AT0dAIFjsLLdRFbSYBIdkVq4IDA4UFoIRzBribXEA5gW7OCgXj6XX6NtUBmNj_3TMa0terGP1DvBCxEUZMc2ltndkqPAVeIhLJ1jXtBW0r0S8-C1Zs7-KpyyTQwoW7GKuyl-&amp\;__tn__=q&amp\;c%5B0%5D=AT0NQi75S7BjqvxSit4UfidXt8s07ZG5osIMHEQsce4TcC3yOGokKQrb-CCoG2WZlw04HpsUZqkShPgrrU6yv-Tdy0PydBDlBEDXQeJXl2s_L5U_jIRR189oSfc0q4J7Ni_PbZKMZzgMOuPqa37hdhql2lgH" style="font-size: 15px\; color: rgb(40\, 79\, 161)\; font-weight: bold\;" target="_blank">musichouse.org</a><a href="https://l.facebook.com/l.php?u=http%3A%2F%2Fmusichouse.org%2F%3Ffbclid%3DIwAR3J6Gu4GBvfj6qNEehj4jaXb4Di7viP24-AbBsF06QELG9ue8OF5TIgQUI&amp\;h=AT0dAIFjsLLdRFbSYBIdkVq4IDA4UFoIRzBribXEA5gW7OCgXj6XX6NtUBmNj_3TMa0terGP1DvBCxEUZMc2ltndkqPAVeIhLJ1jXtBW0r0S8-C1Zs7-KpyyTQwoW7GKuyl-&amp\;__tn__=q&amp\;c%5B0%5D=AT0NQi75S7BjqvxSit4UfidXt8s07ZG5osIMHEQsce4TcC3yOGokKQrb-CCoG2WZlw04HpsUZqkShPgrrU6yv-Tdy0PydBDlBEDXQeJXl2s_L5U_jIRR189oSfc0q4J7Ni_PbZKMZzgMOuPqa37hdhql2lgH" style="text-decoration-line: none\; font-size: 15px\; color: rgb(5\, 5\, 5)\;" target="_blank">.</a><span style="font-size: 15px\; color: rgb(5\, 5\, 5)\;">&nbsp\;We hope to see you there.</span></p>\n
LOCATION:
UID:e.2409.37533
SEQUENCE:3
DTSTAMP:20260420T035106Z
URL:https://business.elkrapidschamber.org/events/details/music-house-museum-austin-stoddard-jazz-quartet-37533
END:VEVENT

END:VCALENDAR
