BEGIN:VCALENDAR
VERSION:2.0
PRODID:-//ChamberMaster//Event Calendar 2.0//EN
METHOD:PUBLISH
X-PUBLISHED-TTL:P3D
REFRESH-INTERVAL:P3D
CALSCALE:GREGORIAN
BEGIN:VEVENT
DTSTART:20230901T140000Z
DTEND:20230901T200000Z
X-MICROSOFT-CDO-ALLDAYEVENT:FALSE
SUMMARY:Music House Consignment Sale
DESCRIPTION:Please come to the 2023 Music House Museum Consignment Sale\, 10:00AM   4:00PM on Friday September 1 and Saturday September 2.\n\nThe Music House Museum is seeking consignors for the 9/1 and 9/2 sale. For details about participation please contact Ellie at231.342.3359 or billell@chartermi.net
X-ALT-DESC;FMTTYPE=text/html:<p style="margin: 0px 0px 9px\; padding: 0px\; border: 0px\; outline: 0px\; font-size: 12px\; vertical-align: baseline\; background: rgb(255\, 255\, 255)\; orphans: 4\; box-sizing: border-box\; color: rgb(51\, 51\, 51)\; font-family: Verdana\, Geneva\, sans-serif\;">Please come to the 2023 Music House Museum Consignment Sale\, 10:00AM &ndash\; 4:00PM on Friday September 1 and Saturday September 2.</p>\n\n<p style="margin: 0px 0px 9px\; padding: 0px\; border: 0px\; outline: 0px\; font-size: 12px\; vertical-align: baseline\; background: rgb(255\, 255\, 255)\; orphans: 4\; box-sizing: border-box\; color: rgb(51\, 51\, 51)\; font-family: Verdana\, Geneva\, sans-serif\;">The Music House Museum is seeking consignors for the 9/1 and 9/2 sale. For details about participation please contact Ellie at231.342.3359 or&nbsp\;<a href="mailto:billell@chartermi.net" style="margin: 0px\; padding: 0px\; border: none\; outline: 0px\; vertical-align: baseline\; background: transparent\; color: rgb(54\, 19\, 25)\; box-sizing: border-box\; box-shadow: none\; text-decoration-line: none !important\;">billell@chartermi.net</a></p>\n
LOCATION:Music House Museum
UID:e.2409.38787
SEQUENCE:3
DTSTAMP:20260419T222142Z
URL:https://business.elkrapidschamber.org/events/details/music-house-consignment-sale-38787
END:VEVENT

END:VCALENDAR
