BEGIN:VCALENDAR
VERSION:2.0
PRODID:-//ChamberMaster//Event Calendar 2.0//EN
METHOD:PUBLISH
X-PUBLISHED-TTL:P3D
REFRESH-INTERVAL:P3D
CALSCALE:GREGORIAN
BEGIN:VEVENT
DTSTART:20201119T180000Z
DTEND:20201119T190000Z
X-MICROSOFT-CDO-ALLDAYEVENT:FALSE
SUMMARY:Munson Healthcare Pre-Holiday Grief Clinic
DESCRIPTION:Join a friendly environment where grief and loss is understood. All are welcome and registration is not required. Munson Healthcare Hospice support groups and workshops are free and open to the community. Groups follow the local public school closing schedule for inclement weather.
X-ALT-DESC;FMTTYPE=text/html:Join a friendly environment where grief and loss is understood. All are welcome and registration is not required. Munson Healthcare Hospice support groups and workshops are free and open to the community. Groups follow the local public school closing schedule for inclement weather.
LOCATION:Mancelona Senior Center 122 E. State St. Mancelona\, MI
UID:e.2409.23322
SEQUENCE:3
DTSTAMP:20260422T000653Z
URL:https://business.elkrapidschamber.org/events/details/munson-healthcare-pre-holiday-grief-clinic-23322
END:VEVENT

END:VCALENDAR
