BEGIN:VCALENDAR
VERSION:2.0
PRODID:-//ChamberMaster//Event Calendar 2.0//EN
METHOD:PUBLISH
X-PUBLISHED-TTL:P3D
REFRESH-INTERVAL:P3D
CALSCALE:GREGORIAN
BEGIN:VEVENT
DTSTART:20191223T230000Z
DTEND:20191224T000000Z
X-MICROSOFT-CDO-ALLDAYEVENT:FALSE
SUMMARY:Movin' on Mondays
DESCRIPTION:Every Monday night at 6pm at Mill Creek Elementary. Led by Dr. Angie Keas. Group balance and flexibility exercises and walking time.
X-ALT-DESC;FMTTYPE=text/html:Every Monday night at 6pm at Mill Creek Elementary. Led by Dr. Angie Keas. Group balance and flexibility exercises and walking time.
LOCATION:Mill Creek Elementary
UID:e.2409.22354
SEQUENCE:3
DTSTAMP:20260419T142517Z
URL:https://business.elkrapidschamber.org/events/details/movin-on-mondays-12-23-2019-22354
END:VEVENT

END:VCALENDAR
