BEGIN:VCALENDAR
VERSION:2.0
PRODID:-//ChamberMaster//Event Calendar 2.0//EN
METHOD:PUBLISH
X-PUBLISHED-TTL:P3D
REFRESH-INTERVAL:P3D
CALSCALE:GREGORIAN
BEGIN:VEVENT
DTSTART:20230514T150000Z
DTEND:20230514T190000Z
X-MICROSOFT-CDO-ALLDAYEVENT:FALSE
SUMMARY:Mother's Day at Pine Hill Nursery Garden Cafe
DESCRIPTION:Make reservations for either the 11 am or 1 pm seating
X-ALT-DESC;FMTTYPE=text/html:Make reservations for either the 11 am or 1 pm seating
LOCATION:Pine Hill Nursery 886 U.S. 31 Kewadin
UID:e.2409.37795
SEQUENCE:3
DTSTAMP:20260420T035228Z
URL:https://business.elkrapidschamber.org/events/details/mother-s-day-at-pine-hill-nursery-garden-cafe-37795
END:VEVENT

END:VCALENDAR
