BEGIN:VCALENDAR
VERSION:2.0
PRODID:-//ChamberMaster//Event Calendar 2.0//EN
METHOD:PUBLISH
X-PUBLISHED-TTL:P3D
REFRESH-INTERVAL:P3D
CALSCALE:GREGORIAN
BEGIN:VEVENT
DTSTART:20230204T000000Z
DTEND:20230204T013000Z
X-MICROSOFT-CDO-ALLDAYEVENT:FALSE
SUMMARY:Moon-lit Snowshoe at Grass River Natural Area
DESCRIPTION:Moon-lit Guided Snowshoe \n\nFriday February 3\, 2023 - 7:00pm (1.5hrs)\, $10 per person \n\nMoon light reflecting off of freshly fallen snow is a great way to enjoy the forest in February. Join a naturalist on a guided snowshoe through Grass River's forests at night to look for signs and sounds of nocturnal animals. Snowshoes are available for rent for an additional $5 rental fee during the program\, or bring your own. Meet at the Grass River Center. Bring a flashlight or headlamp. If it is a clear night\, there may be moonlight. Register Online Here.
X-ALT-DESC;FMTTYPE=text/html:<div><b style="font-family: Arial\, sans-serif\; font-size: 12px\; white-space: pre-wrap\; background-color: rgb(255\, 255\, 255)\;">Moon-lit Guided Snowshoe </b><br style="font-family: Arial\, sans-serif\; font-size: 12px\; white-space: pre-wrap\; background-color: rgb(255\, 255\, 255)\;" />\n<span style="font-family: Arial\, sans-serif\; font-size: 12px\; white-space: pre-wrap\; background-color: rgb(255\, 255\, 255)\;">Friday February 3\, 2023 - 7:00pm (1.5hrs)\, $10 per person </span><br style="font-family: Arial\, sans-serif\; font-size: 12px\; white-space: pre-wrap\; background-color: rgb(255\, 255\, 255)\;" />\n<span style="font-family: Arial\, sans-serif\; font-size: 12px\; white-space: pre-wrap\; background-color: rgb(255\, 255\, 255)\;">Moon light reflecting off of freshly fallen snow is a great way to enjoy the forest in February. Join a naturalist on a guided snowshoe through Grass River&#39\;s forests at night to look for signs and sounds of nocturnal animals. Snowshoes are available for rent for an additional $5 rental fee during the program\, or bring your own. Meet at the Grass River Center. Bring a flashlight or headlamp. If it is a clear night\, there may be moonlight.&nbsp\;</span><a href="https://www.google.com/url?q=https%3A%2F%2Fwww.grassriver.org%2Fclasses-and-programs.html&amp\;sa=D&amp\;ust=1675622100000000&amp\;usg=AOvVaw01iLsyNmZBoGAl_sqZrnmd" style="font-family: Arial\, sans-serif\; font-size: 12px\; white-space: pre-wrap\; background-color: rgb(255\, 255\, 255)\;" target="_blank"><u>Regi<wbr />ster Online Here.</u></a></div>\n
LOCATION:6500 Alden Hwy\, Bellaire\, MI 49615
UID:e.2409.35515
SEQUENCE:3
DTSTAMP:20260420T070636Z
URL:https://business.elkrapidschamber.org/events/details/moon-lit-snowshoe-at-grass-river-natural-area-35515
END:VEVENT

END:VCALENDAR
