BEGIN:VCALENDAR
VERSION:2.0
PRODID:-//ChamberMaster//Event Calendar 2.0//EN
METHOD:PUBLISH
X-PUBLISHED-TTL:P3D
REFRESH-INTERVAL:P3D
CALSCALE:GREGORIAN
BEGIN:VEVENT
DTSTART:20191207T233000Z
DTEND:20191208T013000Z
X-MICROSOFT-CDO-ALLDAYEVENT:FALSE
SUMMARY:Monty Python and the Not so Holy Madrigal: A Madrigal Dinner
DESCRIPTION:Elk Rapids High School Drama Department Presents: Monty Python and the not so Holy Madrigal. A Quests. A Concert. A Meal. Reservations Required in Advance: 231-264-8108 or www.elkrapidsdrama.com
X-ALT-DESC;FMTTYPE=text/html:Elk Rapids High School Drama Department Presents: Monty Python and the not so Holy Madrigal. A Quests. A Concert. A Meal. Reservations Required in Advance: 231-264-8108 or www.elkrapidsdrama.com
LOCATION:
UID:e.2409.22403
SEQUENCE:3
DTSTAMP:20260419T140735Z
URL:https://business.elkrapidschamber.org/events/details/monty-python-and-the-not-so-holy-madrigal-a-madrigal-dinner-12-07-2019-22403
END:VEVENT

END:VCALENDAR
