BEGIN:VCALENDAR
VERSION:2.0
PRODID:-//ChamberMaster//Event Calendar 2.0//EN
METHOD:PUBLISH
X-PUBLISHED-TTL:P3D
REFRESH-INTERVAL:P3D
CALSCALE:GREGORIAN
BEGIN:VEVENT
DTSTART:20190831T140000Z
DTEND:20190831T200000Z
X-MICROSOFT-CDO-ALLDAYEVENT:FALSE
SUMMARY:Model Train Show
DESCRIPTION:
X-ALT-DESC;FMTTYPE=text/html:
LOCATION:Alden Depot
UID:e.2409.19174
SEQUENCE:3
DTSTAMP:20260423T101830Z
URL:https://business.elkrapidschamber.org/events/details/model-train-show-19174
END:VEVENT

END:VCALENDAR
