BEGIN:VCALENDAR
VERSION:2.0
PRODID:-//ChamberMaster//Event Calendar 2.0//EN
METHOD:PUBLISH
X-PUBLISHED-TTL:P3D
REFRESH-INTERVAL:P3D
CALSCALE:GREGORIAN
BEGIN:VEVENT
DTSTART:20230811T143000Z
DTEND:20230811T153000Z
X-MICROSOFT-CDO-ALLDAYEVENT:FALSE
SUMMARY:Miss Elk Rapids Story Time @ the Library
DESCRIPTION:Join us for Story Time on the lawn with the Miss Elk Rapids Representative. Hear stories\, make a craft and enjoy play time. Dress for the weather and bring a lawn chair or blanket!
X-ALT-DESC;FMTTYPE=text/html:Join us for Story Time on the lawn with the Miss Elk Rapids Representative. Hear stories\, make a craft and enjoy play time. Dress for the weather and bring a lawn chair or blanket!
LOCATION:Elk Rapids District Library
UID:e.2409.38762
SEQUENCE:3
DTSTAMP:20260419T234856Z
URL:https://business.elkrapidschamber.org/events/details/miss-elk-rapids-story-time-the-library-38762
END:VEVENT

END:VCALENDAR
