BEGIN:VCALENDAR
VERSION:2.0
PRODID:-//ChamberMaster//Event Calendar 2.0//EN
METHOD:PUBLISH
X-PUBLISHED-TTL:P3D
REFRESH-INTERVAL:P3D
CALSCALE:GREGORIAN
BEGIN:VEVENT
DTSTART:20231111T180000Z
DTEND:20231111T193000Z
X-MICROSOFT-CDO-ALLDAYEVENT:FALSE
SUMMARY:Miss Elk Rapids Princess Tea
DESCRIPTION:Enjoy an enchanting afternoon with your favorite princess! Princess will enjoy bingo\, princess tattoos\, dancing\, wand crafts\, photo opportunities with Miss Elk Rapids\, and tiaras for each Princess.\n\nAttendees are encouraged to dress as a princess or in their favorite party dress.\n\nTickets are $10 each\, $15 after 11/5. You can purchase tickets at The Place LLC on Ames Street in Elk Rapids. If you have questions\, please call 231-676-1711 or email misselkrapids@gmail.com
X-ALT-DESC;FMTTYPE=text/html:<span style="background-color: rgb(255\, 255\, 255)\; color: rgb(5\, 5\, 5)\; font-family: &quot\;Segoe UI Historic&quot\;\, &quot\;Segoe UI&quot\;\, Helvetica\, Arial\, sans-serif\; font-size: 15px\;">Enjoy an enchanting afternoon with your favorite princess! Princess will enjoy bingo\, princess tattoos\, dancing\, wand crafts\, photo opportunities with Miss Elk Rapids\, and tiaras for each Princess.</span>\n\n<div class="x11i5rnm xat24cr x1mh8g0r x1vvkbs xtlvy1s" style="margin: 0.5em 0px 0px\; overflow-wrap: break-word\; font-family: &quot\;Segoe UI Historic&quot\;\, &quot\;Segoe UI&quot\;\, Helvetica\, Arial\, sans-serif\; color: rgb(5\, 5\, 5)\; font-size: 15px\; background-color: rgb(255\, 255\, 255)\;">Attendees are encouraged to dress as a princess or in their favorite party dress.</div>\n\n<div class="x11i5rnm xat24cr x1mh8g0r x1vvkbs xtlvy1s" style="margin: 0.5em 0px 0px\; overflow-wrap: break-word\; font-family: &quot\;Segoe UI Historic&quot\;\, &quot\;Segoe UI&quot\;\, Helvetica\, Arial\, sans-serif\; color: rgb(5\, 5\, 5)\; font-size: 15px\; background-color: rgb(255\, 255\, 255)\;">Tickets are $10 each\, $15 after 11/5. You can purchase tickets at The Place LLC on Ames Street in Elk Rapids. If you have questions\, please call 231-676-1711 or email misselkrapids@gmail.com</div>\n
LOCATION:Sacred Heart Church 143 Charles St. Elk Rapids
UID:e.2409.39350
SEQUENCE:3
DTSTAMP:20260419T175629Z
URL:https://business.elkrapidschamber.org/events/details/miss-elk-rapids-princess-tea-39350
END:VEVENT

END:VCALENDAR
