BEGIN:VCALENDAR
VERSION:2.0
PRODID:-//ChamberMaster//Event Calendar 2.0//EN
METHOD:PUBLISH
X-PUBLISHED-TTL:P3D
REFRESH-INTERVAL:P3D
CALSCALE:GREGORIAN
BEGIN:VEVENT
DTSTART:20220518T230000Z
DTEND:20220519T010000Z
X-MICROSOFT-CDO-ALLDAYEVENT:FALSE
SUMMARY:Milton Township Public Meeting-Planning Commission
DESCRIPTION:May's meeting rescheduled to May 18\n\nMeets 3rd Thursday of the Month
X-ALT-DESC;FMTTYPE=text/html:May&#39\;s meeting rescheduled to May 18<br />\nMeets 3rd Thursday of the Month
LOCATION:7023 Cherry St | Kewadin\, MI 49648
UID:e.2409.28567
SEQUENCE:3
DTSTAMP:20260420T215731Z
URL:https://business.elkrapidschamber.org/events/details/milton-township-public-meeting-planning-commission-05-19-2022-28567
END:VEVENT

END:VCALENDAR
