BEGIN:VCALENDAR
VERSION:2.0
PRODID:-//ChamberMaster//Event Calendar 2.0//EN
METHOD:PUBLISH
X-PUBLISHED-TTL:P3D
REFRESH-INTERVAL:P3D
CALSCALE:GREGORIAN
BEGIN:VEVENT
DTSTART:20200822T110000Z
DTEND:20200822T160000Z
X-MICROSOFT-CDO-ALLDAYEVENT:FALSE
SUMMARY:Milton Township Clean Up Day
DESCRIPTION:Milton township Residents Only\n\nOpen-top roll -offs will be provided for recyclable mnetal.  All other trash will be put into compaction trucks.  For efficiency\, we are asking residents to bundle or box as much as possible.  Large loads may be asked to wait until the line slows down.  Refrgerators will be charged $30.00.  Disposal of passenger tire only\, $6 each.\n\nNO hazardous waste\, paint\, batteries\, chemicals\, yard clippings\, or branches will be accepted.
X-ALT-DESC;FMTTYPE=text/html:Milton township Residents Only<br />\nOpen-top roll -offs will be provided for recyclable mnetal.&nbsp\; All other trash will be put into compaction trucks.&nbsp\; For efficiency\, we are asking residents to bundle or box as much as possible.&nbsp\; Large loads may be asked to wait until the line slows down.&nbsp\; Refrgerators will be charged $30.00.&nbsp\; Disposal of passenger tire only\, $6 each.<br />\nNO hazardous waste\, paint\, batteries\, chemicals\, yard clippings\, or branches will be accepted.
LOCATION:Milton Township Parking lot\, Kewadin Next to tennis courts on Cairn Hwy.
UID:e.2409.24060
SEQUENCE:3
DTSTAMP:20260422T054235Z
URL:https://business.elkrapidschamber.org/events/details/milton-township-clean-up-day-24060
END:VEVENT

END:VCALENDAR
