BEGIN:VCALENDAR
VERSION:2.0
PRODID:-//ChamberMaster//Event Calendar 2.0//EN
METHOD:PUBLISH
X-PUBLISHED-TTL:P3D
REFRESH-INTERVAL:P3D
CALSCALE:GREGORIAN
BEGIN:VEVENT
DTSTART:20220103T230000Z
DTEND:20220104T010000Z
X-MICROSOFT-CDO-ALLDAYEVENT:FALSE
SUMMARY:Milton Planning - Public Hearing Meeting
DESCRIPTION:The Milton Township Planning Commission will hold a public hearing on Monday\, January 3\, 2022 @ 6:00 pm.  This public hearing will be held at the Elk Rapids High School Peterman Auditorium\, 308 Meguzee Point Rd\, Elk Rapids\, Michigan.  Due to the Covid Pandemic\, this hearing may be viewed and public c\n\n\n\nRV Park Applicant Submittal\nAgenda with Zoom link/Instructions
X-ALT-DESC;FMTTYPE=text/html:<p class="text-white" style="box-sizing: inherit\; border: 0px\; font-size: 15px\; margin: 0px 0px 1.75em\; outline: 0px\; padding: 0px\; vertical-align: baseline\; color: rgb(255\, 255\, 255)\; font-family: &quot\;Open Sans&quot\;\, sans-serif\;"><span style="color:#000000\;">The Milton Township Planning Commission will hold a public hearing on Monday\, January 3\, 2022 @ 6:00 pm.&nbsp\; This public hearing will be held at the Elk Rapids High School Peterman Auditorium\, 308 Meguzee Point Rd\, Elk Rapids\, Michigan.&nbsp\; Due to the Covid Pandemic\, this hearing may be viewed and public c</span><br />\n<br />\n<u><a href="https://miltontownship.org/wp-content/uploads/2021/12/RV-Park-Applicant-Submittal.pdf" style="box-sizing: inherit\; border: 0px\; font-size: 15px\; font-style: inherit\; font-weight: bold\; margin: 0px\; outline: 0px\; padding: 0px\; vertical-align: baseline\; text-decoration-line: none\; color: rgb(9\, 232\, 94)\; transition: all 0.2s linear 0s\;"><span style="color:#0000FF\;">RV Park Applicant Submittal</span></a></u></p>\n<u><a href="https://miltontownship.org/wp-content/uploads/2021/12/Agenda-Zoom-link-Instructions.pdf" style="box-sizing: inherit\; border: 0px\; font-size: 15px\; font-weight: bold\; margin: 0px\; outline: 0px\; padding: 0px\; vertical-align: baseline\; text-decoration-line: none\; color: rgb(9\, 232\, 94)\; transition: all 0.2s linear 0s\; font-family: &quot\;Open Sans&quot\;\, sans-serif\;"><span style="color:#0000FF\;">Agenda with Zoom link/Instructions</span></a></u><span style="color:#000000\;"><span style="font-family: &quot\;Open Sans&quot\;\, sans-serif\; font-size: 15px\; background-color: rgba(255\, 255\, 255\, 0.1)\;">&nbsp\;&nbsp\;</span></span>
LOCATION:Elk Rapids High School Peterman Auditorium 308 Meguzee Point Rd. Elk Rapids\, MI
UID:e.2409.28301
SEQUENCE:3
DTSTAMP:20260421T032031Z
URL:https://business.elkrapidschamber.org/events/details/milton-planning-public-hearing-meeting-28301
END:VEVENT

END:VCALENDAR
