BEGIN:VCALENDAR
VERSION:2.0
PRODID:-//ChamberMaster//Event Calendar 2.0//EN
METHOD:PUBLISH
X-PUBLISHED-TTL:P3D
REFRESH-INTERVAL:P3D
CALSCALE:GREGORIAN
BEGIN:VEVENT
DTSTART:20230513T150000Z
DTEND:20230513T170000Z
X-MICROSOFT-CDO-ALLDAYEVENT:FALSE
SUMMARY:Michigan Butterfly Network Monitor Training (online)
DESCRIPTION:Michigan Butterfly Network Monitor Training (online)\n\nSaturday\, May 13\n\n11:00 am (2hrs.)\n\nIf you would like to become a volunteer monitor for the Michigan Butterfly Network\, join this free online training to learn more. Register through the Kalamazoo Nature Center . You can register at  https://naturecenter.doubleknot.com/event/virtual-butterfly-monitoring-training/2967291.
X-ALT-DESC;FMTTYPE=text/html:<strong><em><span style="color:#202020\;"><span style="font-size:12.0pt\;">Michigan Butterfly Network Monitor Training (online)<br />\nSaturday\, May 13<br />\n11:00 am (2hrs.)</span></span></em></strong><br />\n<span style="color:#202020\;"><span style="font-size:12.0pt\;">If you would like to become a volunteer monitor for the Michigan Butterfly Network\, join this free online training to learn more. Register through the Kalamazoo Nature Center . You can register at &nbsp\;<a href="https://naturecenter.doubleknot.com/event/virtual-butterfly-monitoring-training/2967291">https://naturecenter.doubleknot.com/event/virtual-butterfly-monitoring-training/2967291</a>.</span></span>
LOCATION:
UID:e.2409.37534
SEQUENCE:3
DTSTAMP:20260420T035228Z
URL:https://business.elkrapidschamber.org/events/details/michigan-butterfly-network-monitor-training-online-37534
END:VEVENT

END:VCALENDAR
