BEGIN:VCALENDAR
VERSION:2.0
PRODID:-//ChamberMaster//Event Calendar 2.0//EN
METHOD:PUBLISH
X-PUBLISHED-TTL:P3D
REFRESH-INTERVAL:P3D
CALSCALE:GREGORIAN
BEGIN:VEVENT
DTSTART:20241005T120000Z
DTEND:20241005T163000Z
X-MICROSOFT-CDO-ALLDAYEVENT:FALSE
SUMMARY:Michigan 2021 Plumbing Code Update Class
DESCRIPTION:Builders Exchange of NW Michigan is hosting a Michigan 2021 Plumbing Code Update Class to help plumbers in the area stay up to date with licensing requirements. There are 3 different dates available\, and it is open to anyone (not just members)
X-ALT-DESC;FMTTYPE=text/html:Builders Exchange of NW Michigan is hosting a Michigan 2021 Plumbing Code Update Class to help plumbers in the area stay up to date with licensing requirements. There are 3 different dates available\, and it is open to anyone (not just members)
LOCATION:Builders Exchange of NW Michigan 3175Continental Dr. Traverse City\, MI
UID:e.2409.45400
SEQUENCE:3
DTSTAMP:20260424T200808Z
URL:https://business.elkrapidschamber.org/events/details/michigan-2021-plumbing-code-update-class-45400
END:VEVENT

END:VCALENDAR
