BEGIN:VCALENDAR
VERSION:2.0
PRODID:-//ChamberMaster//Event Calendar 2.0//EN
METHOD:PUBLISH
X-PUBLISHED-TTL:P3D
REFRESH-INTERVAL:P3D
CALSCALE:GREGORIAN
BEGIN:VEVENT
DTSTART:20190617T140000Z
DTEND:20190617T190000Z
X-MICROSOFT-CDO-ALLDAYEVENT:FALSE
SUMMARY:Merchant Processing Review Day
DESCRIPTION:Please join us for a Merchant Processing demonstration and review. Light refreshments will be served.\n\nFor more information speak with your local Chemical Bank representative.
X-ALT-DESC;FMTTYPE=text/html:Please join us for a Merchant Processing demonstration and review. Light refreshments will be served.<br />\nFor more information speak with your local Chemical Bank representative.
LOCATION:Chemical Bank\, Elk Rapids
UID:e.2409.20056
SEQUENCE:3
DTSTAMP:20260424T192918Z
URL:https://business.elkrapidschamber.org/events/details/merchant-processing-review-day-20056
END:VEVENT

END:VCALENDAR
