BEGIN:VCALENDAR
VERSION:2.0
PRODID:-//ChamberMaster//Event Calendar 2.0//EN
METHOD:PUBLISH
X-PUBLISHED-TTL:P3D
REFRESH-INTERVAL:P3D
CALSCALE:GREGORIAN
BEGIN:VEVENT
DTSTART:20230527T140000Z
DTEND:20230527T200000Z
X-MICROSOFT-CDO-ALLDAYEVENT:FALSE
SUMMARY:Memorial Weekend Open House at Elk Rapids Marina
DESCRIPTION:Join us in kicking off the start of summer!\n\nLive Music\, Demo Rides\, Giveaways\, Kids Activities
X-ALT-DESC;FMTTYPE=text/html:Join us in kicking off the start of summer!<br />\nLive Music\, Demo Rides\, Giveaways\, Kids Activities
LOCATION:118 N. Bridge Street Elk Rapids
UID:e.2409.37858
SEQUENCE:3
DTSTAMP:20260420T035057Z
URL:https://business.elkrapidschamber.org/events/details/memorial-weekend-open-house-at-elk-rapids-marina-37858
END:VEVENT

END:VCALENDAR
