BEGIN:VCALENDAR
VERSION:2.0
PRODID:-//ChamberMaster//Event Calendar 2.0//EN
METHOD:PUBLISH
X-PUBLISHED-TTL:P3D
REFRESH-INTERVAL:P3D
CALSCALE:GREGORIAN
BEGIN:VEVENT
DTSTART:20220530T133000Z
DTEND:20220530T143000Z
X-MICROSOFT-CDO-ALLDAYEVENT:FALSE
SUMMARY:MEMORIAL DAY YOGA
DESCRIPTION:Memorial Day special Yoga class\n\n \n\nBegin your Memorial Day with a Slow Flow Yoga practice at 9:30am.  \n\n \n\nThis is the perfect way to get centered and grounded before diving into whatever your holiday festivities may include.
X-ALT-DESC;FMTTYPE=text/html:<br />\n<span style="font-size:14.666666984558105px">Memorial Day special Yoga class</span><br />\n&nbsp\;<br />\n<span style="font-size:11pt">Begin your Memorial Day with a Slow Flow Yoga practice at 9:30am. &nbsp\;</span><br />\n&nbsp\;<br />\n<span style="font-size: 11pt\;">This is the perfect way to get centered and grounded before diving into </span><span style="font-size: 14.6667px\;">whatever</span><span style="font-size: 11pt\;">&nbsp\;your holiday festivities may include.&nbsp\;</span><br />\n&nbsp\;<br />\n<br />\n&nbsp\;
LOCATION:212 River Street (2nd Level) Elk Rapids\, MI
UID:e.2409.30302
SEQUENCE:3
DTSTAMP:20260420T214944Z
URL:https://business.elkrapidschamber.org/events/details/memorial-day-yoga-30302
END:VEVENT

END:VCALENDAR
