BEGIN:VCALENDAR
VERSION:2.0
PRODID:-//ChamberMaster//Event Calendar 2.0//EN
METHOD:PUBLISH
X-PUBLISHED-TTL:P3D
REFRESH-INTERVAL:P3D
CALSCALE:GREGORIAN
BEGIN:VEVENT
DTSTART:20220530T170000Z
DTEND:20220530T190000Z
X-MICROSOFT-CDO-ALLDAYEVENT:FALSE
SUMMARY:Memorial Day Parade Downtown Alden
DESCRIPTION:
X-ALT-DESC;FMTTYPE=text/html:
LOCATION:Downton Alden
UID:e.2409.29480
SEQUENCE:3
DTSTAMP:20260420T215059Z
URL:https://business.elkrapidschamber.org/events/details/memorial-day-parade-downtown-alden-29480
END:VEVENT

END:VCALENDAR
