BEGIN:VCALENDAR
VERSION:2.0
PRODID:-//ChamberMaster//Event Calendar 2.0//EN
METHOD:PUBLISH
X-PUBLISHED-TTL:P3D
REFRESH-INTERVAL:P3D
CALSCALE:GREGORIAN
BEGIN:VEVENT
DTSTART:20190615T140000Z
DTEND:20190615T160000Z
X-MICROSOFT-CDO-ALLDAYEVENT:FALSE
SUMMARY:Maplehurst Grand Opening
DESCRIPTION:Join us for the grand opening of the Maplehurst Natural Area! This spectacular\, 389 acre property was protected in late 2018 by the Conservancy\, owned by Milton township and is now open for the public to enjoy! \n\n\n\nThe Basics: \n\nThe new Natural Area offers stunning views and critical habitats. We'd love to show you around and explain why this place was worth protecting! \n\n\n\nWhat should I bring? \n\nDress for the weather \n\nConsider bringing your camera or binoculars \n\nSturdy shoes recommended if you would like to join us for a hike \n\nSunscreen and bug spray for your comfort \n\n\n\nDirections: https://goo.gl/maps/KFsc1yYK3Re8vvMw7 \n\n\n\nThank you for your interest in our event! If you have any questions\, please contact Jon Throop at JThroop@GTRLC.org or 231-922-1259
X-ALT-DESC;FMTTYPE=text/html:<span style="background:white\;"><span style="color:#696A6D\;"><span style="font-family:arial\,sans-serif\;"><span style="font-size:9.0pt\;">Join us for the grand opening of the Maplehurst Natural Area! This spectacular\, 389 acre property was protected in late 2018 by the Conservancy\, owned by Milton township and is now open for the public to enjoy!&nbsp\;</span></span></span></span><br />\n<br />\n<span style="color:#696A6D\;"><span style="font-family:arial\,sans-serif\;"><span style="font-size:9.0pt\;"><span style="background:white\;">The Basics:&nbsp\;</span><br />\n<span style="background:white\;">The new Natural Area offers stunning views and critical habitats. We&rsquo\;d love to show you around and explain why this place was worth protecting!&nbsp\;</span><br />\n<br />\n<span style="background:white\;">What should I bring?&nbsp\;</span><br />\n<span style="background:white\;">Dress for the weather&nbsp\;</span><br />\n<span style="background:white\;">Consider bringing your camera or binoculars&nbsp\;</span><br />\n<span style="background:white\;">Sturdy shoes recommended if you would like to join us for a hike&nbsp\;</span><br />\n<span style="background:white\;">Sunscreen and bug spray for your comfort&nbsp\;</span><br />\n<br />\n<span style="background:white\;">Directions:&nbsp\;</span></span></span></span><a href="https://goo.gl/maps/KFsc1yYK3Re8vvMw7" target="_blank"><span style="background:white\;"><span style="color:black\;"><span style="font-family:arial\,sans-serif\;"><span style="font-size:9.0pt\;">https://goo.gl/maps/KFsc1yYK3Re8vvMw7</span></span></span></span></a>&nbsp\;<br />\n<br />\n<span style="color:#696A6D\;"><span style="font-family:arial\,sans-serif\;"><span style="font-size:9.0pt\;"><span style="background:white\;">Thank you for your interest in our event! If you have any questions\, please contact Jon Throop at&nbsp\;</span></span></span></span><a href="mailto:JThroop@GTRLC.org"><span style="background:white\;"><span style="color:black\;"><span style="font-family:arial\,sans-serif\;"><span style="font-size:9.0pt\;">JThroop@GTRLC.org</span></span></span></span></a><span style="background:white\;"><span style="color:#696A6D\;"><span style="font-family:arial\,sans-serif\;"><span style="font-size:9.0pt\;">&nbsp\;or 231-922-1259</span></span></span></span>
LOCATION:Maplehurst
UID:e.2409.19772
SEQUENCE:3
DTSTAMP:20260424T193140Z
URL:https://business.elkrapidschamber.org/events/details/maplehurst-grand-opening-19772
END:VEVENT

END:VCALENDAR
