BEGIN:VCALENDAR
VERSION:2.0
PRODID:-//ChamberMaster//Event Calendar 2.0//EN
METHOD:PUBLISH
X-PUBLISHED-TTL:P3D
REFRESH-INTERVAL:P3D
CALSCALE:GREGORIAN
BEGIN:VEVENT
DTSTART:20190213T230000Z
DTEND:20190214T010000Z
X-MICROSOFT-CDO-ALLDAYEVENT:FALSE
SUMMARY:Manufacturing Technology Academy
DESCRIPTION:Traverse Bay Area Intermediate School District (TBAISD) Career-Tech Center is hosting student and parent informations sessions for high school sophomores in the five-county nortwestern Michigan region who may be interested in attending the CTC's Manufacturing Technology Academy program during their junionr and senior years.  The information sessions will feature explanations of the program's curriculu\, the application process\, and a tour of the newly-builty MTA wing.  Session dates area: Feb. 13\, Feb. 26\, and March 13.  Those interested in attending are asked to RSVP to Manufacturing Technology Academy Instruction Tim Wheatley.
X-ALT-DESC;FMTTYPE=text/html:Traverse Bay Area Intermediate School District (TBAISD) Career-Tech Center is hosting student and parent informations sessions for high school sophomores in the five-county nortwestern Michigan region who may be interested in attending the CTC&#39\;s Manufacturing Technology Academy program during their junionr and senior years.&nbsp\; The information sessions will feature explanations of the program&#39\;s curriculu\, the application process\, and a tour of the newly-builty MTA wing.&nbsp\; Session dates area: Feb. 13\, Feb. 26\, and March 13.&nbsp\; Those interested in attending are asked to RSVP to Manufacturing Technology Academy Instruction Tim Wheatley.
LOCATION:Career-Tech Center\, Room 413 880 Parsons Rd. Traverse City
UID:e.2409.18161
SEQUENCE:3
DTSTAMP:20260426T001941Z
URL:https://business.elkrapidschamber.org/events/details/manufacturing-technology-academy-18161
END:VEVENT

END:VCALENDAR
