BEGIN:VCALENDAR
VERSION:2.0
PRODID:-//ChamberMaster//Event Calendar 2.0//EN
METHOD:PUBLISH
X-PUBLISHED-TTL:P3D
REFRESH-INTERVAL:P3D
CALSCALE:GREGORIAN
BEGIN:VEVENT
DTSTART:20240120T170000Z
DTEND:20240120T200000Z
X-MICROSOFT-CDO-ALLDAYEVENT:FALSE
SUMMARY:Mac 'N Cheese Bake Off for Project Graduation
DESCRIPTION:Come and taste and vote for your favorite Mac n Cheese.  Local Elk Rapids restaurants vs. Class of 2024 Senior Moms.
X-ALT-DESC;FMTTYPE=text/html:Come and taste and vote for your favorite Mac n Cheese.&nbsp\; Local Elk Rapids restaurants vs. Class of 2024 Senior Moms.
LOCATION:Amvet's Post #114 410 Bridge St. Elk Rapids
UID:e.2409.40854
SEQUENCE:3
DTSTAMP:20260419T121524Z
URL:https://business.elkrapidschamber.org/events/details/mac-n-cheese-bake-off-for-project-graduation-40854
END:VEVENT

END:VCALENDAR
