BEGIN:VCALENDAR
VERSION:2.0
PRODID:-//ChamberMaster//Event Calendar 2.0//EN
METHOD:PUBLISH
X-PUBLISHED-TTL:P3D
REFRESH-INTERVAL:P3D
CALSCALE:GREGORIAN
BEGIN:VEVENT
DTSTART;VALUE=DATE:20220623
DTEND;VALUE=DATE:20220625
TRANSP:TRANSPARENT
X-MICROSOFT-CDO-ALLDAYEVENT:TRUE
SUMMARY:Luke Buck Watercolor Workshop at Raven Hill
DESCRIPTION:
X-ALT-DESC;FMTTYPE=text/html:
LOCATION:Raven Hill Discovery Center 4737 Fuller Road East Jordan MI 49627
UID:e.2409.29073
SEQUENCE:3
DTSTAMP:20260420T202738Z
URL:https://business.elkrapidschamber.org/events/details/luke-buck-watercolor-workshop-at-raven-hill-29073
END:VEVENT

END:VCALENDAR
