BEGIN:VCALENDAR
VERSION:2.0
PRODID:-//ChamberMaster//Event Calendar 2.0//EN
METHOD:PUBLISH
X-PUBLISHED-TTL:P3D
REFRESH-INTERVAL:P3D
CALSCALE:GREGORIAN
BEGIN:VEVENT
DTSTART:20210410T140000Z
DTEND:20210410T180000Z
X-MICROSOFT-CDO-ALLDAYEVENT:FALSE
SUMMARY:Local Hiring Fair in Elk Rapids
DESCRIPTION:Looking for Summer Help?\n\nLooking for Summer Work?\n\nJoin us on Saturday April 10\, either sign up as an employer to do on-site interviews or come to find a summer job!\n\nCOVID GUIDELINES OBSERVED MASK REQUIRED!\n\n\n\nList of Companies and Job Openings
X-ALT-DESC;FMTTYPE=text/html:<span style="font-size:18px\;"><span style="color:#000000\;"><strong>Looking for Summer Help?<br />\nLooking for Summer Work?<br />\nJoin us on Saturday April 10\, either sign up as an employer to do on-site interviews or come to find a summer job!<br />\nCOVID GUIDELINES OBSERVED MASK REQUIRED!</strong></span><br />\n<br />\n<strong><span style="font-size:22px\;"><a href="https://chambermaster.blob.core.windows.net/userfiles/UserFiles/chambers/2409/File/JobOpeningsApril103.pdf"><span style="color:#0000FF\;">List of Companies and Job Openings</span></a></span></strong></span><br />\n&nbsp\;
LOCATION:Amvets Post #114 410 Bridge St. Elk Rapids
UID:e.2409.27176
SEQUENCE:3
DTSTAMP:20260421T105755Z
URL:https://business.elkrapidschamber.org/events/details/local-hiring-fair-in-elk-rapids-27176
END:VEVENT

END:VCALENDAR
