BEGIN:VCALENDAR
VERSION:2.0
PRODID:-//ChamberMaster//Event Calendar 2.0//EN
METHOD:PUBLISH
X-PUBLISHED-TTL:P3D
REFRESH-INTERVAL:P3D
CALSCALE:GREGORIAN
BEGIN:VEVENT
DTSTART:20191213T000000Z
DTEND:20191213T020000Z
X-MICROSOFT-CDO-ALLDAYEVENT:FALSE
SUMMARY:Live Music with Brett Mitchell at Cellar 152
DESCRIPTION:Come join us for a special night of music and wine tasting with Brett.
X-ALT-DESC;FMTTYPE=text/html:<div>\n<div>\n<div><span style="color: rgb(29\, 33\, 41)\; font-family: Helvetica\, Arial\, sans-serif\; font-size: 14px\; white-space: pre-wrap\; background-color: rgb(255\, 255\, 255)\;">Come join us for a special night of music and wine tasting with Brett.</span></div>\n</div>\n</div>\n\n<div>\n<div>\n<div>\n<div>\n<div>&nbsp\;</div>\n</div>\n</div>\n</div>\n</div>\n
LOCATION:Cellar 152 - 152 River St.
UID:e.2409.22427
SEQUENCE:3
DTSTAMP:20260419T153329Z
URL:https://business.elkrapidschamber.org/events/details/live-music-with-brett-mitchell-at-cellar-152-22427
END:VEVENT

END:VCALENDAR
