BEGIN:VCALENDAR
VERSION:2.0
PRODID:-//ChamberMaster//Event Calendar 2.0//EN
METHOD:PUBLISH
X-PUBLISHED-TTL:P3D
REFRESH-INTERVAL:P3D
CALSCALE:GREGORIAN
BEGIN:VEVENT
DTSTART:20191221T013000Z
DTEND:20191221T040000Z
X-MICROSOFT-CDO-ALLDAYEVENT:FALSE
SUMMARY:Live Music with Biomassive @ Short's Brewing Company
DESCRIPTION:Live Music
X-ALT-DESC;FMTTYPE=text/html:<font color="#1d2129" face="Helvetica\, Arial\, sans-serif"><span style="font-size: 14px\; white-space: pre-wrap\;">Live Music</span></font>
LOCATION:Short's Brewing Company
UID:e.2409.22436
SEQUENCE:3
DTSTAMP:20260419T154126Z
URL:https://business.elkrapidschamber.org/events/details/live-music-with-biomassive-short-s-brewing-company-22436
END:VEVENT

END:VCALENDAR
