BEGIN:VCALENDAR
VERSION:2.0
PRODID:-//ChamberMaster//Event Calendar 2.0//EN
METHOD:PUBLISH
X-PUBLISHED-TTL:P3D
REFRESH-INTERVAL:P3D
CALSCALE:GREGORIAN
BEGIN:VEVENT
DTSTART:20191221T010000Z
DTEND:20191221T040000Z
X-MICROSOFT-CDO-ALLDAYEVENT:FALSE
SUMMARY:Live Music @ Torch Lake Cafe: Leanna & Ivan
DESCRIPTION:Live Music
X-ALT-DESC;FMTTYPE=text/html:Live Music&nbsp\;&nbsp\;&nbsp\;&nbsp\;&nbsp\;&nbsp\;&nbsp\;&nbsp\;
LOCATION:Torch Lake Cafe
UID:e.2409.22438
SEQUENCE:3
DTSTAMP:20260419T153616Z
URL:https://business.elkrapidschamber.org/events/details/live-music-torch-lake-cafe-leanna-ivan-22438
END:VEVENT

END:VCALENDAR
