BEGIN:VCALENDAR
VERSION:2.0
PRODID:-//ChamberMaster//Event Calendar 2.0//EN
METHOD:PUBLISH
X-PUBLISHED-TTL:P3D
REFRESH-INTERVAL:P3D
CALSCALE:GREGORIAN
BEGIN:VEVENT
DTSTART:20190822T220000Z
DTEND:20190823T000000Z
X-MICROSOFT-CDO-ALLDAYEVENT:FALSE
SUMMARY:Live Comedy Show
DESCRIPTION:One part magician and three parts comedian\, Jason Abbott entertains audiences nationwide with his hilarious brand of comedy and magic. He has appeared\, and disappeared\, in 27 states last year alone. Join us on Thursday\, August 22 at 6 pm at the HERTH for pizza and LAUGHS! This program is for adults. Admission is free but requires a ticket. Pick up your tickets at the Library.
X-ALT-DESC;FMTTYPE=text/html:One part magician and three parts comedian\, Jason Abbott entertains audiences nationwide with his hilarious brand of comedy and magic. He has appeared\, and disappeared\, in 27 states last year alone. Join us on Thursday\, August 22 at 6 pm at the HERTH for pizza and LAUGHS! This program is for adults. Admission is free but requires a ticket. Pick up your tickets at the Library.
LOCATION:The HERTH
UID:e.2409.20534
SEQUENCE:3
DTSTAMP:20260423T081233Z
URL:https://business.elkrapidschamber.org/events/details/live-comedy-show-20534
END:VEVENT

END:VCALENDAR
