BEGIN:VCALENDAR
VERSION:2.0
PRODID:-//ChamberMaster//Event Calendar 2.0//EN
METHOD:PUBLISH
X-PUBLISHED-TTL:P3D
REFRESH-INTERVAL:P3D
CALSCALE:GREGORIAN
BEGIN:VEVENT
DTSTART:20191214T220000Z
DTEND:20191215T000000Z
X-MICROSOFT-CDO-ALLDAYEVENT:FALSE
SUMMARY:Lions Club Annual Community Dinner
DESCRIPTION:Free Community Dinner\n\nThe Elk Rapids Lions Club will be hosting its free Annual Community Dinner from 5-7 p.m. Saturday\, Dec. 14 at Cherryland Middle School. All are invited to stop by and enjoy a traditional ham dinner with all the trimmings.\n\nCherryland Middle School is located at 707 E. Third St. in Elk Rapids. While the dinner is free\, the Lions will be accepting donations of canned goods for the Elk Rapids Community Cupboard.
X-ALT-DESC;FMTTYPE=text/html:<p class="gmail-MsoNoSpacing" style="color: rgb(0\, 0\, 0)\; text-transform: none\; text-indent: 0px\; letter-spacing: normal\; font-family: &quot\;Lucida Grande&quot\;\, Verdana\, Arial\, Helvetica\, sans-serif\; font-size: 12px\; font-style: normal\; font-weight: 400\; word-spacing: 0px\; white-space: normal\; orphans: 2\; widows: 2\; background-color: rgb(255\, 255\, 255)\; font-variant-ligatures: normal\; font-variant-caps: normal\; -webkit-text-stroke-width: 0px\; text-decoration-style: initial\; text-decoration-color: initial\;">Free Community Dinner</p>\n\n<p class="gmail-MsoNoSpacing" style="color: rgb(0\, 0\, 0)\; text-transform: none\; text-indent: 0px\; letter-spacing: normal\; font-family: &quot\;Lucida Grande&quot\;\, Verdana\, Arial\, Helvetica\, sans-serif\; font-size: 12px\; font-style: normal\; font-weight: 400\; word-spacing: 0px\; white-space: normal\; orphans: 2\; widows: 2\; background-color: rgb(255\, 255\, 255)\; font-variant-ligatures: normal\; font-variant-caps: normal\; -webkit-text-stroke-width: 0px\; text-decoration-style: initial\; text-decoration-color: initial\;">The Elk Rapids Lions Club will be hosting its free Annual Community Dinner from 5-7 p.m. Saturday\, Dec. 14 at Cherryland Middle School. All are invited to stop by and enjoy a<span>&nbsp\;</span><span>traditional ham dinner with all the trimmings</span>.</p>\n\n<p class="gmail-MsoNoSpacing" style="color: rgb(0\, 0\, 0)\; text-transform: none\; text-indent: 0px\; letter-spacing: normal\; font-family: &quot\;Lucida Grande&quot\;\, Verdana\, Arial\, Helvetica\, sans-serif\; font-size: 12px\; font-style: normal\; font-weight: 400\; word-spacing: 0px\; white-space: normal\; orphans: 2\; widows: 2\; background-color: rgb(255\, 255\, 255)\; font-variant-ligatures: normal\; font-variant-caps: normal\; -webkit-text-stroke-width: 0px\; text-decoration-style: initial\; text-decoration-color: initial\;">Cherryland Middle School is located at 707 E. Third St. in Elk Rapids. While the dinner is free\, the Lions will be accepting donations of canned goods for the Elk Rapids Community Cupboard.</p>\n\n<p class="gmail-MsoNoSpacing" style="color: rgb(0\, 0\, 0)\; text-transform: none\; text-indent: 0px\; letter-spacing: normal\; font-family: &quot\;Lucida Grande&quot\;\, Verdana\, Arial\, Helvetica\, sans-serif\; font-size: 12px\; font-style: normal\; font-weight: 400\; word-spacing: 0px\; white-space: normal\; orphans: 2\; widows: 2\; background-color: rgb(255\, 255\, 255)\; font-variant-ligatures: normal\; font-variant-caps: normal\; -webkit-text-stroke-width: 0px\; text-decoration-style: initial\; text-decoration-color: initial\;">&nbsp\;</p>\n
LOCATION:Cherryland Middle School
UID:e.2409.22420
SEQUENCE:3
DTSTAMP:20260419T140805Z
URL:https://business.elkrapidschamber.org/events/details/lions-club-annual-community-dinner-22420
END:VEVENT

END:VCALENDAR
