BEGIN:VCALENDAR
VERSION:2.0
PRODID:-//ChamberMaster//Event Calendar 2.0//EN
METHOD:PUBLISH
X-PUBLISHED-TTL:P3D
REFRESH-INTERVAL:P3D
CALSCALE:GREGORIAN
BEGIN:VEVENT
DTSTART:20190717T143000Z
DTEND:20190717T163000Z
X-MICROSOFT-CDO-ALLDAYEVENT:FALSE
SUMMARY:Library Summer Reading Program
DESCRIPTION:Elk Rapids District Library Summer Reading Program\n\n7/3-Doug Scheer - Magician \n\n 7/10-Stevens Puppets Presents The Wizard of Oz\n\n7/17-Cameron Zvara - Magician\n\n7/24-Exotic Zoo
X-ALT-DESC;FMTTYPE=text/html:Elk Rapids District Library Summer Reading Program<br />\n7/3-Doug Scheer - Magician&nbsp\;<br />\n&#8203\;7/10-Stevens Puppets Presents The Wizard of Oz<br />\n7/17-Cameron Zvara - Magician<br />\n7/24-Exotic Zoo
LOCATION:All programs held at HERTH 401 River Street Elk Rapids
UID:e.2409.20188
SEQUENCE:3
DTSTAMP:20260424T152720Z
URL:https://business.elkrapidschamber.org/events/details/library-summer-reading-program-07-17-2019-20188
END:VEVENT

END:VCALENDAR
