BEGIN:VCALENDAR
VERSION:2.0
PRODID:-//ChamberMaster//Event Calendar 2.0//EN
METHOD:PUBLISH
X-PUBLISHED-TTL:P3D
REFRESH-INTERVAL:P3D
CALSCALE:GREGORIAN
BEGIN:VEVENT
DTSTART:20200316T220000Z
DTEND:20200316T230000Z
X-MICROSOFT-CDO-ALLDAYEVENT:FALSE
SUMMARY:LIBRARY CLOSED Irish History\, Folklore\, and Legends
DESCRIPTION:Author and storyteller David McDonnell will join the library on St. Patrick's Day eve. He will share with the audience a wee bit of Irish history\, culture\, and legends\, with a few humorous yarns thrown in the mix. David is an award -winning author and has told his stories throughout North America and Ireland. Elk Rapids Library Meeting Room Monday March 16th 6:00 pm
X-ALT-DESC;FMTTYPE=text/html:Author and storyteller David McDonnell will join the library on St. Patrick&rsquo\;s Day eve. He will share with the audience a wee bit of Irish history\, culture\, and legends\, with a few humorous yarns thrown in the mix. David is an award -winning author and has told his stories throughout North America and Ireland. Elk Rapids Library Meeting Room Monday March 16th 6:00 pm
LOCATION:
UID:e.2409.23436
SEQUENCE:3
DTSTAMP:20260420T034722Z
URL:https://business.elkrapidschamber.org/events/details/library-closed-irish-history-folklore-and-legends-23436
END:VEVENT

END:VCALENDAR
