BEGIN:VCALENDAR
VERSION:2.0
PRODID:-//ChamberMaster//Event Calendar 2.0//EN
METHOD:PUBLISH
X-PUBLISHED-TTL:P3D
REFRESH-INTERVAL:P3D
CALSCALE:GREGORIAN
BEGIN:VEVENT
DTSTART;VALUE=DATE:20190506
DTEND;VALUE=DATE:20190507
TRANSP:TRANSPARENT
X-MICROSOFT-CDO-ALLDAYEVENT:TRUE
SUMMARY:LEAF PICK UP SPRING ONE-TIME ONLY
DESCRIPTION:Service will begin on the east side of town and move west.  No return pickup will me date.\n\nResidential service only.  Lieaves must be piled NEATLY by the shoulder of the street. Do not place leaves in bags. NO ALLEY PICKUPS. nO PICUP OF LEAVES THAT HAVE BEEN POWER BROOMED OR COLLECTED AND DAMPED AT THE CURB. \n\nRESTRICTED:  LEAVES WILL NOT BE PICKED UP IF ANY OF THE FOLLOWING ARE MIXED IN:  BRUSH/BRANCHES\, TRASH/GARBAGE\, CONSTRUCTION MATERIALS.
X-ALT-DESC;FMTTYPE=text/html:Service will begin on the east side of town and move west.&nbsp\; No return pickup will me date.<br />\nResidential service only.&nbsp\; Lieaves must be piled NEATLY by the shoulder of the street. Do not place leaves in bags. NO ALLEY PICKUPS. nO PICUP OF LEAVES THAT HAVE BEEN POWER BROOMED OR COLLECTED AND DAMPED AT THE CURB.&nbsp\;<br />\n<span style="color: rgb(255\, 0\, 0)\;">RESTRICTED:&nbsp\; LEAVES WILL NOT BE PICKED UP IF ANY OF THE FOLLOWING ARE MIXED IN:&nbsp\; BRUSH/BRANCHES\, TRASH/GARBAGE\, CONSTRUCTION MATERIALS.</span>
LOCATION:
UID:e.2409.19085
SEQUENCE:3
DTSTAMP:20260425T164249Z
URL:https://business.elkrapidschamber.org/events/details/leaf-pick-up-spring-one-time-only-19085
END:VEVENT

END:VCALENDAR
