BEGIN:VCALENDAR
VERSION:2.0
PRODID:-//ChamberMaster//Event Calendar 2.0//EN
METHOD:PUBLISH
X-PUBLISHED-TTL:P3D
REFRESH-INTERVAL:P3D
CALSCALE:GREGORIAN
BEGIN:VEVENT
DTSTART:20240126T233000Z
DTEND:20240127T013000Z
X-MICROSOFT-CDO-ALLDAYEVENT:FALSE
SUMMARY:Lantern-Lit Ski and Snowshoe at Grass River
DESCRIPTION:Lantern-lit Ski and Snowshoe\n\nFriday January 26\, 2024 - 6:30pm to 8:30pm (2 hrs.)\, $5 per person \n\nLantern light reflecting off of freshly fallen snow is a great way to enjoy the forest in winter. Enjoy a self-guided evening ski on GRNA's groomed ski trails\, or snowshoe the boardwalk to the river. We will have a warm campfire at the Center pavilion and the heated building will be open and staffed. Come any time during the 2-hour\, self-guided\, "open-house" style ski or snowshoe. Bring a flashlight or headlamp. Skis and snowshoes for all ages are available for rent at the Grass River Center for an additional $5 rental fee during the program\, or bring your own. Register Online Here.
X-ALT-DESC;FMTTYPE=text/html:<b style="font-family: Arial\, sans-serif\; font-size: small\; white-space-collapse: preserve\; background-color: rgb(255\, 255\, 255)\;">Lantern-lit Ski and Snowshoe</b><br style="font-family: Arial\, sans-serif\; font-size: small\; white-space-collapse: preserve\; background-color: rgb(255\, 255\, 255)\;" />\n<i style="font-family: Arial\, sans-serif\; font-size: small\; white-space-collapse: preserve\; background-color: rgb(255\, 255\, 255)\;">Friday January 26\, 2024 - 6:30pm to 8:30pm (2 hrs.)\, $5 per person </i><br style="font-family: Arial\, sans-serif\; font-size: small\; white-space-collapse: preserve\; background-color: rgb(255\, 255\, 255)\;" />\n<span style="font-family: Arial\, sans-serif\; font-size: small\; white-space-collapse: preserve\; background-color: rgb(255\, 255\, 255)\;">Lantern light reflecting off of freshly fallen snow is a great way to enjoy the forest in winter. Enjoy a self-guided evening ski on GRNA&rsquo\;s groomed ski trails\, or snowshoe the boardwalk to the river. We will have a warm campfire at the Center pavilion and the heated building will be open and staffed. Come any time during the 2-hour\, self-guided\, &quot\;open-house&quot\; style ski or snowshoe. Bring a flashlight or headlamp. Skis and snowshoes for all ages are available for rent at the Grass River Center for an additional $5 rental fee during the program\, or bring your own.&nbsp\;</span><a href="https://www.google.com/url?q=https%3A%2F%2Fwww.grassriver.org%2Fclasses-and-programs.html&amp\;sa=D&amp\;ust=1705716840000000&amp\;usg=AOvVaw1SMOGnzHs9QBIgJObgO41T" style="font-family: Arial\, sans-serif\; font-size: small\; white-space-collapse: preserve\; background-color: rgb(255\, 255\, 255)\;" target="_blank"><u><u>Register Online Here.</u></u></a>
LOCATION:Grass River Natural Area
UID:e.2409.41926
SEQUENCE:3
DTSTAMP:20260419T121850Z
URL:https://business.elkrapidschamber.org/events/details/lantern-lit-ski-and-snowshoe-at-grass-river-41926
END:VEVENT

END:VCALENDAR
