BEGIN:VCALENDAR
VERSION:2.0
PRODID:-//ChamberMaster//Event Calendar 2.0//EN
METHOD:PUBLISH
X-PUBLISHED-TTL:P3D
REFRESH-INTERVAL:P3D
CALSCALE:GREGORIAN
BEGIN:VEVENT
DTSTART:20191203T160000Z
DTEND:20191203T190000Z
X-MICROSOFT-CDO-ALLDAYEVENT:FALSE
SUMMARY:Ladles of Love
DESCRIPTION:
X-ALT-DESC;FMTTYPE=text/html:
LOCATION:
UID:e.2409.22385
SEQUENCE:3
DTSTAMP:20260419T142348Z
URL:https://business.elkrapidschamber.org/events/details/ladles-of-love-22385
END:VEVENT

END:VCALENDAR
