BEGIN:VCALENDAR
VERSION:2.0
PRODID:-//ChamberMaster//Event Calendar 2.0//EN
METHOD:PUBLISH
X-PUBLISHED-TTL:P3D
REFRESH-INTERVAL:P3D
CALSCALE:GREGORIAN
BEGIN:VEVENT
DTSTART:20231214T220000Z
DTEND:20231215T010000Z
X-MICROSOFT-CDO-ALLDAYEVENT:FALSE
SUMMARY:Ladies Night Downtown Elk Rapids
DESCRIPTION:Ladies\, come downtown Elk Rapids on River and Ames Street. \n\nShop\, (There will be specials) Sip\, Taste\, and Enjoy!\n\nHere is a list to fun things and specials:
X-ALT-DESC;FMTTYPE=text/html:Ladies\, come downtown Elk Rapids on River and Ames Street.&nbsp\;<br />\nShop\, (There will be specials) Sip\, Taste\, and Enjoy!<br />\nHere is a list to fun things and specials:
LOCATION:Downtown Elk Rapids\,and also on Ames Street
UID:e.2409.39224
SEQUENCE:3
DTSTAMP:20260419T175543Z
URL:https://business.elkrapidschamber.org/events/details/ladies-night-downtown-elk-rapids-39224
END:VEVENT

END:VCALENDAR
