BEGIN:VCALENDAR
VERSION:2.0
PRODID:-//ChamberMaster//Event Calendar 2.0//EN
METHOD:PUBLISH
X-PUBLISHED-TTL:P3D
REFRESH-INTERVAL:P3D
CALSCALE:GREGORIAN
BEGIN:VEVENT
DTSTART:20231217T160000Z
DTEND:20231217T190000Z
X-MICROSOFT-CDO-ALLDAYEVENT:FALSE
SUMMARY:Kids Crafts at the DAM Shop
DESCRIPTION:Gingerbread House Contest\n\nMeet & Greet Photos with Santa & the Grinc
X-ALT-DESC;FMTTYPE=text/html:Gingerbread House Contest<br />\nMeet &amp\; Greet Photos with Santa &amp\; the Grinc
LOCATION:The DAM Shop 118 Bridge St. Elk Rapids
UID:e.2409.40337
SEQUENCE:3
DTSTAMP:20260419T180049Z
URL:https://business.elkrapidschamber.org/events/details/kids-crafts-at-the-dam-shop-40337
END:VEVENT

END:VCALENDAR
