BEGIN:VCALENDAR
VERSION:2.0
PRODID:-//ChamberMaster//Event Calendar 2.0//EN
METHOD:PUBLISH
X-PUBLISHED-TTL:P3D
REFRESH-INTERVAL:P3D
CALSCALE:GREGORIAN
BEGIN:VEVENT
DTSTART:20231209T160000Z
DTEND:20231209T190000Z
X-MICROSOFT-CDO-ALLDAYEVENT:FALSE
SUMMARY:Kids Crafts at the DAM Shop
DESCRIPTION:Ornament Making\n\nCookie Decorating
X-ALT-DESC;FMTTYPE=text/html:Ornament Making<br />\nCookie Decorating
LOCATION:The DAM Shop 118 Bridge St. Elk Rapids
UID:e.2409.40329
SEQUENCE:3
DTSTAMP:20260419T164928Z
URL:https://business.elkrapidschamber.org/events/details/kids-crafts-at-the-dam-shop-40329
END:VEVENT

END:VCALENDAR
