BEGIN:VCALENDAR
VERSION:2.0
PRODID:-//ChamberMaster//Event Calendar 2.0//EN
METHOD:PUBLISH
X-PUBLISHED-TTL:P3D
REFRESH-INTERVAL:P3D
CALSCALE:GREGORIAN
BEGIN:VEVENT
DTSTART:20191207T180000Z
DTEND:20191207T200000Z
X-MICROSOFT-CDO-ALLDAYEVENT:FALSE
SUMMARY:Kids Cookies and Crafts
DESCRIPTION:Kids of all ages are invited to decorate holiday cookies and wreaths. Cookies\, sprinkles\, and colored icing will be provided\, as will craft supplies for paper wreaths.
X-ALT-DESC;FMTTYPE=text/html:Kids of all ages are invited to decorate holiday cookies and wreaths. Cookies\, sprinkles\, and colored icing will be provided\, as will craft supplies for paper wreaths.
LOCATION:Elk Rapids Library 300 Isle of Pines Elk Rapids
UID:e.2409.22374
SEQUENCE:3
DTSTAMP:20260419T141426Z
URL:https://business.elkrapidschamber.org/events/details/kids-cookies-and-crafts-22374
END:VEVENT

END:VCALENDAR
