BEGIN:VCALENDAR
VERSION:2.0
PRODID:-//ChamberMaster//Event Calendar 2.0//EN
METHOD:PUBLISH
X-PUBLISHED-TTL:P3D
REFRESH-INTERVAL:P3D
CALSCALE:GREGORIAN
BEGIN:VEVENT
DTSTART:20251206T160000Z
DTEND:20251206T190000Z
X-MICROSOFT-CDO-ALLDAYEVENT:FALSE
SUMMARY:Kids Community Christmas
DESCRIPTION:
X-ALT-DESC;FMTTYPE=text/html:
LOCATION:Amvets Post #114 410 Bridge Street Elk Rapids
UID:e.2409.50605
SEQUENCE:3
DTSTAMP:20260420T065101Z
URL:https://business.elkrapidschamber.org/events/details/kids-community-christmas-50605
END:VEVENT

END:VCALENDAR
