BEGIN:VCALENDAR
VERSION:2.0
PRODID:-//ChamberMaster//Event Calendar 2.0//EN
METHOD:PUBLISH
X-PUBLISHED-TTL:P3D
REFRESH-INTERVAL:P3D
CALSCALE:GREGORIAN
BEGIN:VEVENT
DTSTART:20190718T143000Z
DTEND:20190718T163000Z
X-MICROSOFT-CDO-ALLDAYEVENT:FALSE
SUMMARY:Kid's Classes at Pinehill Nursery
DESCRIPTION:A little learning and a lot of fun! Classes are $5. Class size is limited. Call to register.
X-ALT-DESC;FMTTYPE=text/html:A little learning and a lot of fun! Classes are $5. Class size is limited. Call to register.
LOCATION:Pine HIll Nursery
UID:e.2409.19684
SEQUENCE:3
DTSTAMP:20260425T162639Z
URL:https://business.elkrapidschamber.org/events/details/kid-s-classes-at-pinehill-nursery-19684
END:VEVENT

END:VCALENDAR
