BEGIN:VCALENDAR
VERSION:2.0
PRODID:-//ChamberMaster//Event Calendar 2.0//EN
METHOD:PUBLISH
X-PUBLISHED-TTL:P3D
REFRESH-INTERVAL:P3D
CALSCALE:GREGORIAN
BEGIN:VEVENT
DTSTART:20190927T140000Z
DTEND:20190927T160000Z
X-MICROSOFT-CDO-ALLDAYEVENT:FALSE
SUMMARY:Kayak Grass River
DESCRIPTION:There is no better way to experience Grass River in autumn than by paddling its calm waters and enjoying its unique wildlife! On these guided tours\, visitors explore Grass River by kayak and find out about GRNA's conservation efforts\, wetland plants\, and wildlife. $25 per person\, $45 with kayak rental. Meets off-site. No restrooms at launch site. Adults only. More information at grassriver.org. Grass River Natural Area is located at 6500 Alden Highway\, Bellaire MI.
X-ALT-DESC;FMTTYPE=text/html:<span style="color: rgb(29\, 34\, 40)\; background-color: rgb(255\, 255\, 255)\; font-size: 12pt\; font-family: &quot\;Helvetica Neue&quot\;\;">There is no better way to experience Grass River in autumn than by paddling its calm waters and enjoying its unique wildlife! On these guided tours\, visitors explore Grass River by kayak and find out about GRNA&rsquo\;s conservation efforts\, wetland plants\, and wildlife. $25 per person\, $45 with kayak rental. Meets off-site. No restrooms at launch site. Adults only.&nbsp\;</span><span style="color: rgb(29\, 34\, 40)\; font-family: &quot\;Helvetica Neue&quot\;\, Helvetica\, Arial\, sans-serif\; background-color: rgb(255\, 255\, 255)\; font-size: 12pt\;">More information at grassriver.org. Grass River Natural Area is located at 6500 Alden Highway\, Bellaire MI.</span>
LOCATION:Grass River Natural Area 6500 Alden Hwy. Bellaire\, MI 49615
UID:e.2409.21814
SEQUENCE:3
DTSTAMP:20260424T121557Z
URL:https://business.elkrapidschamber.org/events/details/kayak-grass-river-21814
END:VEVENT

END:VCALENDAR
