BEGIN:VCALENDAR
VERSION:2.0
PRODID:-//ChamberMaster//Event Calendar 2.0//EN
METHOD:PUBLISH
X-PUBLISHED-TTL:P3D
REFRESH-INTERVAL:P3D
CALSCALE:GREGORIAN
BEGIN:VEVENT
DTSTART:20190802T130000Z
DTEND:20190802T153000Z
X-MICROSOFT-CDO-ALLDAYEVENT:FALSE
SUMMARY:Kayak Grass River
DESCRIPTION:There is something about seeing things from the water that changes your perspective of the land.  Join us for a guided paddle down beautiful Grass River with a naturalist.  Learn about access sites along the river\, basic kayak techniques\, wildlife\, and the natural history of the river. This 2.5 hour program costs $45 with equipment rental or $25 if you have your own equipment.  Due to limited space preregistration is required.  Call GRNA to register: 231-350-9461. Adults Only.  No restrooms at launch site.
X-ALT-DESC;FMTTYPE=text/html:<span style="color: rgb(38\, 40\, 42)\; font-family: &quot\;Neutra Text TF Alt&quot\;\; font-size: 13px\; background-color: rgb(255\, 255\, 255)\;">There is something about seeing things from the water that changes your perspective of the land.&nbsp\; Join us for a guided paddle down beautiful Grass River with a naturalist.&nbsp\; Learn about access sites along the river\, basic kayak techniques\, wildlife\, and the natural history of the river. This 2.5 hour program costs $45 with equipment rental or $25 if you have your own equipment.&nbsp\; Due to limited space preregistration is required.&nbsp\; Call GRNA to register: 231-350-9461. Adults Only.&nbsp\; No restrooms at launch site.</span>
LOCATION:Grass River Natural Area 6500 Alden Hwy. Bellaire\, MI 49615
UID:e.2409.18529
SEQUENCE:3
DTSTAMP:20260423T021519Z
URL:https://business.elkrapidschamber.org/events/details/kayak-grass-river-18529
END:VEVENT

END:VCALENDAR
